BEGIN:VCALENDAR
VERSION:2.0
PRODID:-//SolidServicios - ECPv6.3.3.1//NONSGML v1.0//EN
CALSCALE:GREGORIAN
METHOD:PUBLISH
X-ORIGINAL-URL:https://solidservicios.com
X-WR-CALDESC:Eventos para SolidServicios
REFRESH-INTERVAL;VALUE=DURATION:PT1H
X-Robots-Tag:noindex
X-PUBLISHED-TTL:PT1H
BEGIN:VTIMEZONE
TZID:UTC
BEGIN:STANDARD
TZOFFSETFROM:+0000
TZOFFSETTO:+0000
TZNAME:UTC
DTSTART:20210101T000000
END:STANDARD
END:VTIMEZONE
BEGIN:VEVENT
DTSTART;TZID=UTC:20210430T160000
DTEND;TZID=UTC:20210430T170000
DTSTAMP:20260425T164605
CREATED:20210126T060826Z
LAST-MODIFIED:20210126T062953Z
UID:21736-1619798400-1619802000@solidservicios.com
SUMMARY:WEBINAR | ¡Reduzca hasta el 70% en tiempo de maquinados con IMachining!
DESCRIPTION:  \nImpartido por: \nIng. Alejandro Zepeda Suárez \nIngeniero de Aplicaciones Experto \nFecha y Hora: \nViernes 30 de Abril de 2021 | 4:00 pm a 5:00 pm \n  \nDescripción:  \nEl Asistente de Tecnología iMachining proporciona avances y velocidades óptimas para cualquier material y máquina CNC asegurando el éxito al primer intento. Mecaniza en CNC más rápido\, incluso con herramientas más pequeñas y materiales más duros. El conocimiento y la sabiduría de cientos de expertos en CAM y CNC en la palma de tu mano con el Asistente de trayectorias e iMachining.  \n  \nBeneficios: \n• Menor coste en herramientas de corte. \n• Optimizar tiempos de maquinado. \n• Aprovechamiento óptimo de materia prima. \n• Salida de proyectos de maquinado mas eficiente. \n  \n ¡REGISTRARSE AHORA! \n 
URL:https://solidservicios.com/cal/webinar-reduzca-hasta-el-70-en-tiempo-de-maquinados-con-imachining/
ORGANIZER;CN="SOLIDSERVICIOS":MAILTO:info@solidservicios.com
END:VEVENT
END:VCALENDAR