BEGIN:VCALENDAR
VERSION:2.0
PRODID:-//SolidServicios - ECPv6.3.3.1//NONSGML v1.0//EN
CALSCALE:GREGORIAN
METHOD:PUBLISH
X-WR-CALNAME:SolidServicios
X-ORIGINAL-URL:https://solidservicios.com
X-WR-CALDESC:Eventos para SolidServicios
REFRESH-INTERVAL;VALUE=DURATION:PT1H
X-Robots-Tag:noindex
X-PUBLISHED-TTL:PT1H
BEGIN:VTIMEZONE
TZID:UTC
BEGIN:STANDARD
TZOFFSETFROM:+0000
TZOFFSETTO:+0000
TZNAME:UTC
DTSTART:20210101T000000
END:STANDARD
END:VTIMEZONE
BEGIN:VEVENT
DTSTART;TZID=UTC:20210625T160000
DTEND;TZID=UTC:20210625T170000
DTSTAMP:20260425T145755
CREATED:20210126T075658Z
LAST-MODIFIED:20210126T075911Z
UID:21744-1624636800-1624640400@solidservicios.com
SUMMARY:WEBINAR | Saque el máximo provecho a sus maquinarias CNC
DESCRIPTION:  \nImpartido por: \nIng. José Alberto Robles Díaz \nIngeniero de Aplicaciones Elite \nFecha y Hora: \nViernes 25 de Junio de 2021 | 4:00 pm a 5:00 pm \n  \nDescripción:  \nSaque el máximo provecho a su maquinaria con las funciones avanzadas pero simples de utilizar que SolidCAM nos ofrece\, SolidCAM es compatible con una gran variedad de máquinas CNC incluidos tornos suizos y tornos multitarea\, así como centros de maquinado de 3\, 4 y 5 ejes simultáneos.\n \n  \nBeneficios: \n• Ahorre tiempo automatizando la creación de operaciones. \n• Control total de sus capacidades de maquinad. \n• Sincronice operaciones complejas. \n• Simplifique operaciones complejas  \n ¡REGISTRARSE AHORA!
URL:https://solidservicios.com/cal/webinar-saque-el-maximo-provecho-a-sus-maquinarias-cnc/
ORGANIZER;CN="SOLIDSERVICIOS":MAILTO:info@solidservicios.com
END:VEVENT
END:VCALENDAR