BEGIN:VCALENDAR
VERSION:2.0
PRODID:-//SolidServicios - ECPv6.3.3.1//NONSGML v1.0//EN
CALSCALE:GREGORIAN
METHOD:PUBLISH
X-ORIGINAL-URL:https://solidservicios.com
X-WR-CALDESC:Eventos para SolidServicios
REFRESH-INTERVAL;VALUE=DURATION:PT1H
X-Robots-Tag:noindex
X-PUBLISHED-TTL:PT1H
BEGIN:VTIMEZONE
TZID:UTC
BEGIN:STANDARD
TZOFFSETFROM:+0000
TZOFFSETTO:+0000
TZNAME:UTC
DTSTART:20210101T000000
END:STANDARD
END:VTIMEZONE
BEGIN:VEVENT
DTSTART;TZID=UTC:20210702T163000
DTEND;TZID=UTC:20210702T170000
DTSTAMP:20260425T164609
CREATED:20210127T041512Z
LAST-MODIFIED:20210127T044905Z
UID:21801-1625243400-1625245200@solidservicios.com
SUMMARY:TALLER | Optimice proyectos de gran escala con sistemas estructurales
DESCRIPTION:  \nImpartido por: \nIng. Alejandro Zepeda Suárez \nIngeniero de Aplicaciones CAD/CAM Experto \nFecha y Hora: \nViernes 2 de Julio de 2021 | 4:00 pm a 5:00 pm \nDescripción:  \nOptimice y organice de manera más organizada sus proyectos estructurales utilizando “Sistemas estructurales” de SOLIDWORKS\, herramienta que le permitirá utilizar de manera más adecuada la información preliminar y organizarla\, todo esto dentro del entorno de SOLIDWORKS CAD. \n  \nBeneficios: \n• Menor perdida en materia prima. \n• Generación automática de lista de cortes. \n• Menor tiempo en diseño. \n• Mayor calidad en diseños finales. \n ¡REGISTRARSE AHORA!
URL:https://solidservicios.com/cal/taller-optimice-proyectos-de-gran-escala-con-sistemas-estructurales/
ORGANIZER;CN="SOLIDSERVICIOS":MAILTO:info@solidservicios.com
END:VEVENT
END:VCALENDAR