BEGIN:VCALENDAR
VERSION:2.0
PRODID:-//SolidServicios - ECPv6.3.3.1//NONSGML v1.0//EN
CALSCALE:GREGORIAN
METHOD:PUBLISH
X-WR-CALNAME:SolidServicios
X-ORIGINAL-URL:https://solidservicios.com
X-WR-CALDESC:Eventos para SolidServicios
REFRESH-INTERVAL;VALUE=DURATION:PT1H
X-Robots-Tag:noindex
X-PUBLISHED-TTL:PT1H
BEGIN:VTIMEZONE
TZID:UTC
BEGIN:STANDARD
TZOFFSETFROM:+0000
TZOFFSETTO:+0000
TZNAME:UTC
DTSTART:20210101T000000
END:STANDARD
END:VTIMEZONE
BEGIN:VEVENT
DTSTART;TZID=UTC:20210709T160000
DTEND;TZID=UTC:20210709T170000
DTSTAMP:20260425T145752
CREATED:20210126T080342Z
LAST-MODIFIED:20210128T013125Z
UID:21746-1625846400-1625850000@solidservicios.com
SUMMARY:WEBINAR | Agilice la salida al mercado de sus productos
DESCRIPTION:  \nImpartido por: \nIng. Luis Daniel Campos \nIngeniero de Aplicaciones Elite \nFecha y Hora: \nViernes 9 de Junio de 2021 | 4:00 pm a 5:00 pm \n  \nDescripción:  \nSOLIDWORKS FLOW SIMULATION es una herramienta de dinámica de fluidos que permite evaluar el comportamiento de un fluido a través de un modelo\, de esta manera poder evaluar el desempeño de sus diseños. A si mismo con SOLIDWORKS SIMULATION evaluar los efectos estructurales a raíz de la carga de los fluidos.\n \n  \nBeneficios: \n• Visualice el comportamiento de sus diseños para tomar decisiones informadas y a tiempo.. \n• Disminuya los costos por cuestiones de garantía de sus productos. \n• Ahorre dinero evitando el sobredimensionamiento de sus proyectos. \n• Realice simulaciones más robustas y precisas utilizando la conectividad entre SOLIDWORKS FLOW Y SOLIDWORKS SIMULATION. \n  \n ¡REGISTRARSE AHORA! \n 
URL:https://solidservicios.com/cal/webinar-agilice-la-salida-al-mercado-de-sus-productos/
ORGANIZER;CN="SOLIDSERVICIOS":MAILTO:info@solidservicios.com
END:VEVENT
END:VCALENDAR