BEGIN:VCALENDAR
VERSION:2.0
PRODID:-//SolidServicios - ECPv6.3.3.1//NONSGML v1.0//EN
CALSCALE:GREGORIAN
METHOD:PUBLISH
X-WR-CALNAME:SolidServicios
X-ORIGINAL-URL:https://solidservicios.com
X-WR-CALDESC:Eventos para SolidServicios
REFRESH-INTERVAL;VALUE=DURATION:PT1H
X-Robots-Tag:noindex
X-PUBLISHED-TTL:PT1H
BEGIN:VTIMEZONE
TZID:UTC
BEGIN:STANDARD
TZOFFSETFROM:+0000
TZOFFSETTO:+0000
TZNAME:UTC
DTSTART:20210101T000000
END:STANDARD
END:VTIMEZONE
BEGIN:VEVENT
DTSTART;TZID=UTC:20210806T160000
DTEND;TZID=UTC:20210806T170000
DTSTAMP:20260425T115323
CREATED:20210126T085839Z
LAST-MODIFIED:20210807T003029Z
UID:21750-1628265600-1628269200@solidservicios.com
SUMMARY:WEBINAR | Mejore la calidad de un producto con SOLIDWORKS FLOW SIMULATION
DESCRIPTION:  \nImpartido por: \nIng. Noé Núñez Aguilar \nIngeniero de Aplicaciones Elite \nFecha y Hora: \nViernes 06 de Agosto de 2021 | 4:00 pm a 5:00 pm \n  \nDescripción:  \nSOLIDWORKS FLOW SIMULATION es una herramienta de dinámica de fluidos que permite evaluar el comportamiento de un fluido a través de un modelo\, de esta manera poder evaluar el desempeño de sus diseños.\n \n  \nBeneficios: \n• Visualice el comportamiento de sus diseños para tomar decisiones informadas y a tiempo. \n• Disminuya los costos por cuestiones de garantía de sus productos. \n• Ahorre dinero evitando el sobredimensionamiento de sus proyectos. \n• Conozca como se comporta el fluido dentro de sus modelos o alrededor de ellos para poder innovar en áreas de mejora \n  \n ¡REGISTRARSE AHORA!
URL:https://solidservicios.com/cal/webinar-generador-de-pestanas-personalizadas/
ORGANIZER;CN="SOLIDSERVICIOS":MAILTO:info@solidservicios.com
END:VEVENT
END:VCALENDAR