BEGIN:VCALENDAR
VERSION:2.0
PRODID:-//SolidServicios - ECPv6.3.3.1//NONSGML v1.0//EN
CALSCALE:GREGORIAN
METHOD:PUBLISH
X-ORIGINAL-URL:https://solidservicios.com
X-WR-CALDESC:Eventos para SolidServicios
REFRESH-INTERVAL;VALUE=DURATION:PT1H
X-Robots-Tag:noindex
X-PUBLISHED-TTL:PT1H
BEGIN:VTIMEZONE
TZID:UTC
BEGIN:STANDARD
TZOFFSETFROM:+0000
TZOFFSETTO:+0000
TZNAME:UTC
DTSTART:20210101T000000
END:STANDARD
END:VTIMEZONE
BEGIN:VEVENT
DTSTART;TZID=UTC:20210820T160000
DTEND;TZID=UTC:20210820T170000
DTSTAMP:20260425T184226
CREATED:20210126T095049Z
LAST-MODIFIED:20210730T013255Z
UID:21764-1629475200-1629478800@solidservicios.com
SUMMARY:WEBINAR | Como construir diseños que perduren (sim Premium)
DESCRIPTION:  \n \n  \nImpartido por: \nIng. Noe Nicolas Núñez Aguilar\nIngeniero de Aplicaciones Elite \nFecha y Hora: \nViernes 20 de Agosto de 2021 | 4:00 pm a 5:00 pm \n  \nDescripción:  \nCon las herramientas de simulación podrá comprobar puntos críticos del diseño para modificar durante la etapa tempana\, conozca que tipos de estudios podemos realizar con SOLIDWORKS Simulación Premium que le permitirá validar de manera segura sus productos. \n  \nBeneficios: \n• Valide sus diseños de manera sencilla. \n• Analice casos críticos de funcionamiento. \n• Ahorre costos de rediseño. \n ¡REGISTRARSE AHORA!
URL:https://solidservicios.com/cal/webinar-como-construir-disenos-que-perduren-sim-premium/
ORGANIZER;CN="SOLIDSERVICIOS":MAILTO:info@solidservicios.com
END:VEVENT
END:VCALENDAR