BEGIN:VCALENDAR
VERSION:2.0
PRODID:-//SolidServicios - ECPv6.3.3.1//NONSGML v1.0//EN
CALSCALE:GREGORIAN
METHOD:PUBLISH
X-WR-CALNAME:SolidServicios
X-ORIGINAL-URL:https://solidservicios.com
X-WR-CALDESC:Eventos para SolidServicios
REFRESH-INTERVAL;VALUE=DURATION:PT1H
X-Robots-Tag:noindex
X-PUBLISHED-TTL:PT1H
BEGIN:VTIMEZONE
TZID:UTC
BEGIN:STANDARD
TZOFFSETFROM:+0000
TZOFFSETTO:+0000
TZNAME:UTC
DTSTART:20210101T000000
END:STANDARD
END:VTIMEZONE
BEGIN:VEVENT
DTSTART;TZID=UTC:20210825T160000
DTEND;TZID=UTC:20210825T170000
DTSTAMP:20260425T115336
CREATED:20210813T023142Z
LAST-MODIFIED:20210813T023415Z
UID:23119-1629907200-1629910800@solidservicios.com
SUMMARY:WEBINAR | Impresión Industrial 3D: Produce gran variedad de productos y piezas en menos tiempo y a menor costo
DESCRIPTION:WEBINAR SIN COSTO \n¡Mayor precisión de impresión en modelos complejos! Reduzca tiempo y costos de moldes \nMiércoles 25 Agosto 2021   4:00 pm | Duración: 1hr \n ¡REGISTRARSE AHORA! \n  \n\nDescripción: \n\nIdeal para aplicaciones de ingeniería y joyería\, la FabPro 1000 se destaca en prototipos de piezas pequeñas de bajo volumen y en la producción 3D con una gran variedad de materiales\, produciendo así piezas de alta calidad a una gran velocidad\, con costos operativos extraordinariamente bajos y facilidad de uso insuperable.. \n¡Reduzca tiempo y costos de moldes! \n\nBeneficios: \n\n• Piezas de precisión de alta calidad.\n• Velocidades de impresión de alto rendimiento hasta 3 veces más rápidas que los sistemas de la competencia.\n• Solución plug & play fácil de usar.\n• Materiales de grado industrial para joyería y creación de prototipos. \n ¡REGISTRARSE AHORA!
URL:https://solidservicios.com/cal/webinar-impresion-industrial-3d-produce-gran-variedad-de-productos-y-piezas-en-menos-tiempo-y-a-menor-costo/
ORGANIZER;CN="SOLIDSERVICIOS":MAILTO:info@solidservicios.com
END:VEVENT
END:VCALENDAR