BEGIN:VCALENDAR
VERSION:2.0
PRODID:-//SolidServicios - ECPv6.3.3.1//NONSGML v1.0//EN
CALSCALE:GREGORIAN
METHOD:PUBLISH
X-ORIGINAL-URL:https://solidservicios.com
X-WR-CALDESC:Eventos para SolidServicios
REFRESH-INTERVAL;VALUE=DURATION:PT1H
X-Robots-Tag:noindex
X-PUBLISHED-TTL:PT1H
BEGIN:VTIMEZONE
TZID:UTC
BEGIN:STANDARD
TZOFFSETFROM:+0000
TZOFFSETTO:+0000
TZNAME:UTC
DTSTART:20210101T000000
END:STANDARD
END:VTIMEZONE
BEGIN:VEVENT
DTSTART;TZID=UTC:20210827T160000
DTEND;TZID=UTC:20210827T170000
DTSTAMP:20260425T184225
CREATED:20210127T043522Z
LAST-MODIFIED:20210730T011028Z
UID:21810-1630080000-1630083600@solidservicios.com
SUMMARY:TALLER | Mejore la comunicación técnica con dibujos hechos en SOLIDWORKS
DESCRIPTION:  \nImpartido por: \nIng. Alejandro Zepeda Suárez \nIngeniero de Aplicaciones Experto \nFecha y Hora: \nViernes 27 de Agosto de 2021 | 4:00 pm a 5:00 pm \nDescripción:  \nAprenda a documentar de manera rápida y sencilla sus planos de fabricación siguiendo estándares internacionales como ANSI e ISO\, al igual que afinar el uso de las herramientas de dibujo dentro de SOLIDWORKS. \n  \nBeneficios: \n• Mayor claridad en planos de fabricación. \n• CEliminación de errores de interpretación. \n• Uso de Normas internacionales. \n• Optimizar el tiempo de creación de planos. \n  \n ¡REGISTRARSE AHORA!
URL:https://solidservicios.com/cal/taller-mejore-la-comunicacion-tecnica-con-dibujos-hechos-en-solidworks/
ORGANIZER;CN="SOLIDSERVICIOS":MAILTO:info@solidservicios.com
END:VEVENT
END:VCALENDAR