BEGIN:VCALENDAR
VERSION:2.0
PRODID:-//SolidServicios - ECPv6.3.3.1//NONSGML v1.0//EN
CALSCALE:GREGORIAN
METHOD:PUBLISH
X-ORIGINAL-URL:https://solidservicios.com
X-WR-CALDESC:Eventos para SolidServicios
REFRESH-INTERVAL;VALUE=DURATION:PT1H
X-Robots-Tag:noindex
X-PUBLISHED-TTL:PT1H
BEGIN:VTIMEZONE
TZID:UTC
BEGIN:STANDARD
TZOFFSETFROM:+0000
TZOFFSETTO:+0000
TZNAME:UTC
DTSTART:20210101T000000
END:STANDARD
END:VTIMEZONE
BEGIN:VEVENT
DTSTART;TZID=UTC:20210917T160000
DTEND;TZID=UTC:20210917T170000
DTSTAMP:20260425T102910
CREATED:20210126T092407Z
LAST-MODIFIED:20210812T002747Z
UID:21758-1631894400-1631898000@solidservicios.com
SUMMARY:WEBINAR | Agilice el desarrollo de productos eléctricos ¡Ahorre tiempo y dinero!
DESCRIPTION:  \nImpartido por: \nEric Daniel Luna Gómez \nIngeniero de Aplicaciones Elite \nFecha y Hora: \nViernes 17 de Septiembre de 2021 | 4:00 pm a 5:00 pm \n  \nDescripción:  \nAcelere el tiempo de desarrollo de sus productos con SOLIDWORKS Electrical\, único en su capacidad para generar y automatizar diseños esquemáticos permitiéndole trabajar simultáneamente aspectos eléctricos\, neumáticos y mecánicos de sus proyectos. \n  \nBeneficios: \n• Disminuya el tiempo de diseño.  \n• Evite gastos inesperados.. \n• Mejore la comunicación entre sus áreas de diseño mecánico y eléctrico.  \n• Reduzca el uso de tareas repetitivas. \n  \n ¡REGISTRARSE AHORA! \n 
URL:https://solidservicios.com/cal/webinar-simplifique-el-proceso-de-documentacion-2/
ORGANIZER;CN="SOLIDSERVICIOS":MAILTO:info@solidservicios.com
END:VEVENT
END:VCALENDAR