BEGIN:VCALENDAR
VERSION:2.0
PRODID:-//SolidServicios - ECPv6.3.3.1//NONSGML v1.0//EN
CALSCALE:GREGORIAN
METHOD:PUBLISH
X-WR-CALNAME:SolidServicios
X-ORIGINAL-URL:https://solidservicios.com
X-WR-CALDESC:Eventos para SolidServicios
REFRESH-INTERVAL;VALUE=DURATION:PT1H
X-Robots-Tag:noindex
X-PUBLISHED-TTL:PT1H
BEGIN:VTIMEZONE
TZID:UTC
BEGIN:STANDARD
TZOFFSETFROM:+0000
TZOFFSETTO:+0000
TZNAME:UTC
DTSTART:20210101T000000
END:STANDARD
END:VTIMEZONE
BEGIN:VEVENT
DTSTART;TZID=UTC:20210924T080000
DTEND;TZID=UTC:20210924T170000
DTSTAMP:20260425T102629
CREATED:20210127T044501Z
LAST-MODIFIED:20210730T014546Z
UID:21814-1632470400-1632502800@solidservicios.com
SUMMARY:TALLER | Optimiza la biblioteca de toolbox y genera BOM´s de manera rápida y sencilla
DESCRIPTION:  \nImpartido por: \nIng. Alejandro Zepeda Suárez \nIngeniero de Aplicaciones Experto \nFecha y Hora: \nViernes 24 de Septiembre de 2021 | 4:00 pm a 5:00 pm \nDescripción:  \nAprenda cómo gestionar\, administrar y agregar nuevos componentes auxiliares\, como pueden ser tornillos\, tuercas entre otros\, de manera rápida con un flujo de trabajo sencillo. \n  \nBeneficios: \n• Minimizar tiempos en diseño. \n• Reutilización de información CAD. \n• Componentes dentro de Norma y estándares internacionales. \n• BOM automático de elementos de TOOLBOX. \n  \n ¡REGISTRARSE AHORA!
URL:https://solidservicios.com/cal/taller-optimiza-la-biblioteca-de-toolbox-y-genera-boms-de-manera-rapida-y-sencilla/
ORGANIZER;CN="SOLIDSERVICIOS":MAILTO:info@solidservicios.com
END:VEVENT
END:VCALENDAR