BEGIN:VCALENDAR
VERSION:2.0
PRODID:-//SolidServicios - ECPv6.3.3.1//NONSGML v1.0//EN
CALSCALE:GREGORIAN
METHOD:PUBLISH
X-WR-CALNAME:SolidServicios
X-ORIGINAL-URL:https://solidservicios.com
X-WR-CALDESC:Eventos para SolidServicios
REFRESH-INTERVAL;VALUE=DURATION:PT1H
X-Robots-Tag:noindex
X-PUBLISHED-TTL:PT1H
BEGIN:VTIMEZONE
TZID:UTC
BEGIN:STANDARD
TZOFFSETFROM:+0000
TZOFFSETTO:+0000
TZNAME:UTC
DTSTART:20210101T000000
END:STANDARD
END:VTIMEZONE
BEGIN:VEVENT
DTSTART;TZID=UTC:20211012T080000
DTEND;TZID=UTC:20211012T170000
DTSTAMP:20260425T084344
CREATED:20210904T035257Z
LAST-MODIFIED:20210904T035416Z
UID:23265-1634025600-1634058000@solidservicios.com
SUMMARY:Evento de Lanzamiento SOLIDWORKS 2022
DESCRIPTION:¡SOLIDWORKS 2022 YA ESTA AQUÍ!\nRESERVA LA FECHA\n\nRegístrese al evento de lanzamiento de SOLIDWORKS 2022\, conoce las nuevas mejoras en los flujos de trabajo que utilizas a diario en las tareas de diseño\, documentación\, gestión de datos y validación\, que le permitirán trabajar de manera más eficaz.\n» Trabaja más rápido. \n» Trabaja de manera más eficaz \n» Colabora en equipo. \n» Espere sorpresas y premios durante nuestro evento. \n \n » ¡RESERVE AHORA! «
URL:https://solidservicios.com/cal/evento-de-lanzamiento-solidworks-2022-3/
ATTACH;FMTTYPE=image/png:https://solidservicios.com/wp-content/uploads/solidworks-2022-plata-1.png
END:VEVENT
END:VCALENDAR