BEGIN:VCALENDAR
VERSION:2.0
PRODID:-//SolidServicios - ECPv6.3.3.1//NONSGML v1.0//EN
CALSCALE:GREGORIAN
METHOD:PUBLISH
X-ORIGINAL-URL:https://solidservicios.com
X-WR-CALDESC:Eventos para SolidServicios
REFRESH-INTERVAL;VALUE=DURATION:PT1H
X-Robots-Tag:noindex
X-PUBLISHED-TTL:PT1H
BEGIN:VTIMEZONE
TZID:UTC
BEGIN:STANDARD
TZOFFSETFROM:+0000
TZOFFSETTO:+0000
TZNAME:UTC
DTSTART:20210101T000000
END:STANDARD
END:VTIMEZONE
BEGIN:VEVENT
DTSTART;TZID=UTC:20211013T160000
DTEND;TZID=UTC:20211013T170000
DTSTAMP:20260425T084624
CREATED:20211008T230053Z
LAST-MODIFIED:20211008T230053Z
UID:23493-1634140800-1634144400@solidservicios.com
SUMMARY:TALLER | ¡Explore los beneficios de diseñar en la nube!
DESCRIPTION:  \nImpartido por: \n¡Explore los beneficios de diseñar en la nube! \nIngeniero de Aplicaciones Elite \nFecha y Hora: \nMiércoles 13 de Octubre de 2021 | 4:00 pm a 5:00 pm \nDescripción:  \nResuelva sus retos de diseño con una solución de modelado 3D basada en la nube que se ejecuta en la plataforma 3DEXPERIENCE desde cualquier buscador. Cree\, revise y evalúe de forma fácil y rápida modelos 3D conceptuales y detallados con 3D Creator (que incluye la aplicación xDesign) así como formas orgánicas y ergonómicas generadas rápida y fácilmente con 3DShape. \n  \nBeneficios: \n• Desarrolle productos dentro de la nube aprovechando la interconectividad que esta tecnología ofrece a su equipo. \n• Disminuya el tiempo de desarrollo gracias a la facilidad de uso de las herramientas del rol de 3D Creator y 3D Sculptor. \n• Comparta fácilmente conceptos\, pensamientos y comentarios de diseño en etapas iniciales. Permitiendo tomar decisiones con la información en tiempo y en forma.. \n• DDisminuya el tiempo de desarrollo gracias a la facilidad de uso de las herramientas del rol de 3D Creator y 3D Sculptor. \n  \n ¡REGISTRARSE AHORA!
URL:https://solidservicios.com/cal/taller-explore-los-beneficios-de-disenar-en-la-nube/
ORGANIZER;CN="SOLIDSERVICIOS":MAILTO:info@solidservicios.com
END:VEVENT
END:VCALENDAR