BEGIN:VCALENDAR
VERSION:2.0
PRODID:-//SolidServicios - ECPv6.3.3.1//NONSGML v1.0//EN
CALSCALE:GREGORIAN
METHOD:PUBLISH
X-ORIGINAL-URL:https://solidservicios.com
X-WR-CALDESC:Eventos para SolidServicios
REFRESH-INTERVAL;VALUE=DURATION:PT1H
X-Robots-Tag:noindex
X-PUBLISHED-TTL:PT1H
BEGIN:VTIMEZONE
TZID:UTC
BEGIN:STANDARD
TZOFFSETFROM:+0000
TZOFFSETTO:+0000
TZNAME:UTC
DTSTART:20210101T000000
END:STANDARD
END:VTIMEZONE
BEGIN:VEVENT
DTSTART;TZID=UTC:20211105T160000
DTEND;TZID=UTC:20211105T170000
DTSTAMP:20260423T063248
CREATED:20211025T233604Z
LAST-MODIFIED:20211025T233712Z
UID:23584-1636128000-1636131600@solidservicios.com
SUMMARY:TALLER | Potencialice sus diseños conectando a la nube las herramientas que ya conoce.
DESCRIPTION:  \nImpartido por: \nIng. Luis Daniel Campos.\nIngeniero de Aplicaciones Elite \nFecha y Hora: \nViernes 5 de Noviembre de 2021 | 4:00 pm a 5:00 pm \n  \nDescripción:  \nConecte la solución líder del sector CAD en 3D de SOLIDWORKS® a la plataforma 3DEXPERIENCE\, y disfrute de un único entorno de desarrollo de productos basado en la nube.\nResuelva sus retos de diseño con la solución de modelado 3D que ya conoce y expanda las capacidades de colaboración con herramientas basadas en la nube con un flujo de trabajo optimo.\n \n  \nBeneficios: \n• Almacene todos los datos de sus productos en una ubicación centralizada y segura\, y acceda a ellos desde cualquier dispositivo.  \n• Gestione el ciclo de vida de datos CAD\, documentación y modelos de simulación en todas las disciplinas y aplicaciones CAD. \n• Realice un seguimiento de los problemas\, los cambios y las rutas\, y reduzca las ediciones conflictivas de varios colaboradores con el control de revisiones.\n \n• Reduzca los costos de infraestructura\, los gastos generales de TI\, el mantenimiento del software y la complejidad mediante el uso de tecnología segura en la nube. \n  \n ¡REGISTRARSE AHORA!
URL:https://solidservicios.com/cal/taller-potencialice-sus-disenos-conectando-a-la-nube-las-herramientas-que-ya-conoce/
ORGANIZER;CN="SOLIDSERVICIOS":MAILTO:info@solidservicios.com
END:VEVENT
END:VCALENDAR