BEGIN:VCALENDAR
VERSION:2.0
PRODID:-//SolidServicios - ECPv6.3.3.1//NONSGML v1.0//EN
CALSCALE:GREGORIAN
METHOD:PUBLISH
X-WR-CALNAME:SolidServicios
X-ORIGINAL-URL:https://solidservicios.com
X-WR-CALDESC:Eventos para SolidServicios
REFRESH-INTERVAL;VALUE=DURATION:PT1H
X-Robots-Tag:noindex
X-PUBLISHED-TTL:PT1H
BEGIN:VTIMEZONE
TZID:UTC
BEGIN:STANDARD
TZOFFSETFROM:+0000
TZOFFSETTO:+0000
TZNAME:UTC
DTSTART:20210101T000000
END:STANDARD
END:VTIMEZONE
BEGIN:VEVENT
DTSTART;TZID=UTC:20211112T160000
DTEND;TZID=UTC:20211112T170000
DTSTAMP:20260423T063154
CREATED:20211015T224744Z
LAST-MODIFIED:20211016T034646Z
UID:23523-1636732800-1636736400@solidservicios.com
SUMMARY:WEBINAR |  Simplifique la programación y aumente la productividad al programar sus maquinados
DESCRIPTION:  \nImpartido por: \nIng. José Alberto Robles Díaz \nIngeniero de Aplicaciones Elite \nFecha y Hora: \nViernes 12 de Noviembre de 2021 | 4:00 pm a 5:00 pm \n  \nDescripción:  \nSOLIDCAM proporciona una programación sencilla para máquinas CNC complejas de torreta y husillo múltiple con la sincronización de torreta y simulación completa de la máquina\, así como también para maquinas multi eje y tornos suizos. \n\nTodas las operaciones de fresado y torneado\, incluido iMachining\, están disponibles para la programación de máquinas Millturning. \nBeneficios: \n• Ahorre tiempo automatizando la creación de operaciones. \n• Control total de sus capacidades de maquinado. \n• Sincronice y Simplifique  operaciones complejas. \n  \n ¡REGISTRARSE AHORA!
URL:https://solidservicios.com/cal/webinar-simplifique-la-programacion-y-aumente-la-productividad-al-programar-sus-maquinados/
ORGANIZER;CN="SOLIDSERVICIOS":MAILTO:info@solidservicios.com
END:VEVENT
END:VCALENDAR