BEGIN:VCALENDAR
VERSION:2.0
PRODID:-//SolidServicios - ECPv6.3.3.1//NONSGML v1.0//EN
CALSCALE:GREGORIAN
METHOD:PUBLISH
X-WR-CALNAME:SolidServicios
X-ORIGINAL-URL:https://solidservicios.com
X-WR-CALDESC:Eventos para SolidServicios
REFRESH-INTERVAL;VALUE=DURATION:PT1H
X-Robots-Tag:noindex
X-PUBLISHED-TTL:PT1H
BEGIN:VTIMEZONE
TZID:UTC
BEGIN:STANDARD
TZOFFSETFROM:+0000
TZOFFSETTO:+0000
TZNAME:UTC
DTSTART:20210101T000000
END:STANDARD
END:VTIMEZONE
BEGIN:VEVENT
DTSTART;TZID=UTC:20211119T160000
DTEND;TZID=UTC:20211119T170000
DTSTAMP:20260423T063156
CREATED:20211103T013113Z
LAST-MODIFIED:20211103T013113Z
UID:23622-1637337600-1637341200@solidservicios.com
SUMMARY:Taller | Cree imágenes y animaciones en realidad virtual (VR) con SOLIDWORKS VISUALIZE
DESCRIPTION:  \nImpartido por: \nIng. Juan Pablo Pérez\nIngeniero de Aplicaciones Elite \nFecha y Hora: \nViernes 19 de Noviembre de 2021 | 4:00 pm a 5:00 pm \n  \nDescripción:  \nSOLIDWORKS Visualize permite a los usuarios adentrarse más a los modelos CAD no solo generando imágenes fotorrealistas si no también animaciones\, contenido web\, giros en 360º y animaciones inmersivas en realidad virtual (VR) para demostrar hasta los más complejos diseños. \nBeneficios: \n• Utilice la última tecnología en Realidad Virtual para mostrar sus productos con una ambientación envolvente.\n• Completa animación para piezas\, modelos\, apariencias\, ambientes y cámaras.\n• Crea imágenes 360 de un producto o un ambiente y súbelo a Facebook o YouTube\n• Crea renderizados de múltiples configuraciones para mostrarlas a los clientes en catálogos o en redes sociales \n  \n ¡REGISTRARSE AHORA!
URL:https://solidservicios.com/cal/taller-cree-imagenes-y-animaciones-en-realidad-virtual-vr-con-solidworks-visualize/
ORGANIZER;CN="SOLIDSERVICIOS":MAILTO:info@solidservicios.com
END:VEVENT
END:VCALENDAR