BEGIN:VCALENDAR
VERSION:2.0
PRODID:-//SolidServicios - ECPv6.3.3.1//NONSGML v1.0//EN
CALSCALE:GREGORIAN
METHOD:PUBLISH
X-ORIGINAL-URL:https://solidservicios.com
X-WR-CALDESC:Eventos para SolidServicios
REFRESH-INTERVAL;VALUE=DURATION:PT1H
X-Robots-Tag:noindex
X-PUBLISHED-TTL:PT1H
BEGIN:VTIMEZONE
TZID:UTC
BEGIN:STANDARD
TZOFFSETFROM:+0000
TZOFFSETTO:+0000
TZNAME:UTC
DTSTART:20210101T000000
END:STANDARD
END:VTIMEZONE
BEGIN:VEVENT
DTSTART;TZID=UTC:20211203T160000
DTEND;TZID=UTC:20211203T170000
DTSTAMP:20260423T063242
CREATED:20211019T002537Z
LAST-MODIFIED:20211123T054646Z
UID:23553-1638547200-1638550800@solidservicios.com
SUMMARY:TALLER | ¡Determine la resistencia de sus piezas con SIMULATIONXpress!
DESCRIPTION:  \nImpartido por: \nIng. Eric Daniel Luna Gómez\nIngeniero de Aplicaciones Elite \nFecha y Hora: \nViernes 3 de Diciembre de 2021 | 4:00 pm a 5:00 pm \n  \nDescripción:  \nAnalice si sus piezas soportarán las cargas que recibirán en condiciones reales con SOLIDWORKS SimulationXpress es una herramienta de análisis preliminar de tensiones y desplazamientos disponible para todos los usuarios de SOLIDWORKS. \nGenera una experiencia de usuario para sus productos mucho más amigable y fácil de entender con imágenes generadas de los archivos de SOLIDWORKS  \nBeneficios: \n• Incremente la calidad de sus productos. \n• Reduzca el número de prototipos y ahorre dinero. \n• Asegure la funcionalidad de sus proyectos. \n• Acelere la salida al mercado de sus productos. \n  \n ¡REGISTRARSE AHORA!
URL:https://solidservicios.com/cal/23553/
ORGANIZER;CN="SOLIDSERVICIOS":MAILTO:info@solidservicios.com
END:VEVENT
END:VCALENDAR