BEGIN:VCALENDAR
VERSION:2.0
PRODID:-//SolidServicios - ECPv6.3.3.1//NONSGML v1.0//EN
CALSCALE:GREGORIAN
METHOD:PUBLISH
X-ORIGINAL-URL:https://solidservicios.com
X-WR-CALDESC:Eventos para SolidServicios
REFRESH-INTERVAL;VALUE=DURATION:PT1H
X-Robots-Tag:noindex
X-PUBLISHED-TTL:PT1H
BEGIN:VTIMEZONE
TZID:UTC
BEGIN:STANDARD
TZOFFSETFROM:+0000
TZOFFSETTO:+0000
TZNAME:UTC
DTSTART:20220101T000000
END:STANDARD
END:VTIMEZONE
BEGIN:VEVENT
DTSTART;TZID=UTC:20220318T160000
DTEND;TZID=UTC:20220318T170000
DTSTAMP:20260422T144240
CREATED:20220204T221231Z
LAST-MODIFIED:20220302T043439Z
UID:24082-1647619200-1647622800@solidservicios.com
SUMMARY:WEBINAR | Anticipa y soluciona problemas de manufactura para tus diseños de inyección de plástico
DESCRIPTION:Impartido por: \nIng. Luis Daniel Campos\nIngeniero de Aplicaciones Elite \nFecha y Hora: \nViernes 18 de Marzo de 2022 | 4:00 pm a 5:00 pm \nDescripción: \nAsegúrate de que las piezas de plásticos son fabricables y no tienen errores por el proceso de inyección desde la fase de diseño. SOLIDWORKS PLASTICS STANDARD es una solución fácil de utilizar y comprender\, que está integrada a SOLIDWORKS CAD\, lo que permite analizar y modificar los diseños de las piezas y\, al mismo tiempo\, perfecciona la forma\, el ajuste y la función. \nBeneficios: \n• Corrige problemas de inyección antes del proceso de producción. \n• Reduce el tiempo de salida al mercado.  \n• Identifica tiros cortos o cavidades incompletas.. \n  \n ¡REGISTRARSE AHORA!
URL:https://solidservicios.com/cal/webinar-anticipa-y-soluciona-problemas-de-manufactura-para-tus-disenos-de-inyeccion-de-plastico/
ORGANIZER;CN="SOLIDSERVICIOS":MAILTO:info@solidservicios.com
END:VEVENT
END:VCALENDAR