BEGIN:VCALENDAR
VERSION:2.0
PRODID:-//SolidServicios - ECPv6.3.3.1//NONSGML v1.0//EN
CALSCALE:GREGORIAN
METHOD:PUBLISH
X-ORIGINAL-URL:https://solidservicios.com
X-WR-CALDESC:Eventos para SolidServicios
REFRESH-INTERVAL;VALUE=DURATION:PT1H
X-Robots-Tag:noindex
X-PUBLISHED-TTL:PT1H
BEGIN:VTIMEZONE
TZID:UTC
BEGIN:STANDARD
TZOFFSETFROM:+0000
TZOFFSETTO:+0000
TZNAME:UTC
DTSTART:20220101T000000
END:STANDARD
END:VTIMEZONE
BEGIN:VEVENT
DTSTART;TZID=UTC:20220401T160000
DTEND;TZID=UTC:20220401T170000
DTSTAMP:20260422T101336
CREATED:20220113T060109Z
LAST-MODIFIED:20220119T050046Z
UID:23926-1648828800-1648832400@solidservicios.com
SUMMARY:TALLER | Cómo reducir tiempos de diseño con el uso de librerías de elementos de Moldes
DESCRIPTION:Impartido por: \nIng. Alejandro Zepeda Suarez\nIngeniero de Aplicaciones Experto \nFecha y Hora: \nViernes 1  de Abril de 2022 | 4:00 pm a 5:00 pm \nDescripción: \nAprende como crear y administrar un molde de inyección de plástico utilizando archivos 3D directo del proveedor\, con las normas y parámetros ya establecidos\, solo para trabajar sobre puntos específicos. También crea plantillas de dibujo definiendo listas de materiales de manera automática.  \nBeneficios: \n• Agiliza la creación de la información técnica para la fabricación. \n• Crea de manera rápida y precisa la lista de materiales (BOM). \n• Ahorra de tiempo en los procesos de administración de documentación. \n• Comunica de forma más clara efectiva el área de diseño con la de tus proveedores. \n  \n ¡REGISTRARSE AHORA!
URL:https://solidservicios.com/cal/taller-como-reducir-tiempos-de-diseno-con-el-uso-de-librerias-de-elementos-de-moldes/
ORGANIZER;CN="SOLIDSERVICIOS":MAILTO:info@solidservicios.com
END:VEVENT
END:VCALENDAR