BEGIN:VCALENDAR
VERSION:2.0
PRODID:-//SolidServicios - ECPv6.3.3.1//NONSGML v1.0//EN
CALSCALE:GREGORIAN
METHOD:PUBLISH
X-WR-CALNAME:SolidServicios
X-ORIGINAL-URL:https://solidservicios.com
X-WR-CALDESC:Eventos para SolidServicios
REFRESH-INTERVAL;VALUE=DURATION:PT1H
X-Robots-Tag:noindex
X-PUBLISHED-TTL:PT1H
BEGIN:VTIMEZONE
TZID:UTC
BEGIN:STANDARD
TZOFFSETFROM:+0000
TZOFFSETTO:+0000
TZNAME:UTC
DTSTART:20220101T000000
END:STANDARD
END:VTIMEZONE
BEGIN:VEVENT
DTSTART;TZID=UTC:20220413T160000
DTEND;TZID=UTC:20220413T170000
DTSTAMP:20260422T101356
CREATED:20220113T062256Z
LAST-MODIFIED:20220406T210919Z
UID:23927-1649865600-1649869200@solidservicios.com
SUMMARY:Taller | Crea de manera fácil e intuitiva tus plantillas de diseño con SOLIDWORKS
DESCRIPTION:Impartido por: \nIng. Juan Pablo Pérez Jiménez\nIngeniero de Aplicaciones Experto \nFecha y Hora: \nMiércoles 13 de Abril de 2022 | 4:00 pm a 5:00 pm \nDescripción: \nAsigna de manera rápida y sencilla toda una serie de opciones a un archivo de SOLIDWORKS (Pieza\, Ensamblaje o dibujo) desde unidades\, colores\, notas y de más\, e inicia una pieza nueva con todas las configuraciones ya definidas.  \nBeneficios: \n• Comienza los diseños de una manera mucho más rápida y totalmente prediseñada. \n• Ahorra tiempo en las configuraciones iniciales. \n• Inicia un diseño con todas las características listas\, preparadas y definidas  \n• Crea una plantilla de dibujo totalmente automatizada. \n  \n ¡REGISTRARSE AHORA!
URL:https://solidservicios.com/cal/taller-crea-de-manera-facil-e-intuitiva-tus-plantillas-de-diseno-con-solidworks/
ORGANIZER;CN="SOLIDSERVICIOS":MAILTO:info@solidservicios.com
END:VEVENT
END:VCALENDAR