BEGIN:VCALENDAR
VERSION:2.0
PRODID:-//SolidServicios - ECPv6.3.3.1//NONSGML v1.0//EN
CALSCALE:GREGORIAN
METHOD:PUBLISH
X-WR-CALNAME:SolidServicios
X-ORIGINAL-URL:https://solidservicios.com
X-WR-CALDESC:Eventos para SolidServicios
REFRESH-INTERVAL;VALUE=DURATION:PT1H
X-Robots-Tag:noindex
X-PUBLISHED-TTL:PT1H
BEGIN:VTIMEZONE
TZID:UTC
BEGIN:STANDARD
TZOFFSETFROM:+0000
TZOFFSETTO:+0000
TZNAME:UTC
DTSTART:20220101T000000
END:STANDARD
END:VTIMEZONE
BEGIN:VEVENT
DTSTART;TZID=UTC:20220422T160000
DTEND;TZID=UTC:20220422T170000
DTSTAMP:20260422T101359
CREATED:20220204T222655Z
LAST-MODIFIED:20220323T041554Z
UID:24087-1650643200-1650646800@solidservicios.com
SUMMARY:WEBINAR | Troqueles: Optimización del proceso de diseño en Logopress3
DESCRIPTION:Impartido por: \nIng. Alejandro Zepeda Suarez\nIngeniero de Aplicaciones Experto \nFecha y Hora: \nViernes 22 de Abril de 2022 | 4:00 pm a 5:00 pm \nDescripción: \nLOGOPRESS3 es un gold partner de SOLIDWORKS\, es decir\, que cuenta con una amplia gama de herramientas integradas al entorno de SOLIDWORKS. Te ayudará a ti y tu empresa a solucionar los retos de diseño cuando de troqueles se trate. Gracias a la facilidad de uso e integración total a SOLIDWORKS\, serás capaz de desarrollar un troquel progresivo en unos cuantos pasos.  \nBeneficios: \n• Reduce el tiempo de diseño de troqueles progresivos. \n• Valida el funcionamiento del troquel antes de mandarlo a su fabricación. \n• Conoce valores técnicos en cada etapa de troquelado desde las etapas de diseño. \n• Agiliza el proceso de documentación de sus proyectos aprovechando la amplia librería de componentes comerciales. \n  \n ¡REGISTRARSE AHORA!
URL:https://solidservicios.com/cal/webinar-troqueles-optimizacion-del-proceso-de-diseno-en-logopress3/
ORGANIZER;CN="SOLIDSERVICIOS":MAILTO:info@solidservicios.com
END:VEVENT
END:VCALENDAR