BEGIN:VCALENDAR
VERSION:2.0
PRODID:-//SolidServicios - ECPv6.3.3.1//NONSGML v1.0//EN
CALSCALE:GREGORIAN
METHOD:PUBLISH
X-WR-CALNAME:SolidServicios
X-ORIGINAL-URL:https://solidservicios.com
X-WR-CALDESC:Eventos para SolidServicios
REFRESH-INTERVAL;VALUE=DURATION:PT1H
X-Robots-Tag:noindex
X-PUBLISHED-TTL:PT1H
BEGIN:VTIMEZONE
TZID:UTC
BEGIN:STANDARD
TZOFFSETFROM:+0000
TZOFFSETTO:+0000
TZNAME:UTC
DTSTART:20220101T000000
END:STANDARD
END:VTIMEZONE
BEGIN:VEVENT
DTSTART;TZID=UTC:20220513T160000
DTEND;TZID=UTC:20220513T170000
DTSTAMP:20260422T083735
CREATED:20220113T061905Z
LAST-MODIFIED:20220514T020632Z
UID:23929-1652457600-1652461200@solidservicios.com
SUMMARY:Taller | Optimiza el diseño de Chapa Metálica con con SOLIDWORKS
DESCRIPTION:Impartido por: \nIng. Juan Pablo Pérez Jiménez\nIngeniero de Aplicaciones Experto \nFecha y Hora: \nViernes 13 de Mayo de 2022 | 4:00 pm a 5:00 pm \nDescripción: \nCon las herramientas de chapa metálica de SOLIDWORKS el diseño y la fabricación de estructuras metálicas no será un reto más para ti. Las diferentes operaciones de brida y dobleces te permitirán generar sus diseños en cuestión de segundos y presentar tu producto para la manufactura en menor tiempo. \nBeneficios: \n• Las características de doblar y desdoblar laminas\, harán sus diseños más simples para la manufactura. \n• Crea productos complejos en menor tiempo a partir de láminas de metal. \n• Maximiza el tiempo de diseño\, consiga un producto final mejor y más rápido para superar la competencia. \n• Reduce los desperdicios de material. \n  \n ¡REGISTRARSE AHORA!
URL:https://solidservicios.com/cal/taller-optimice-el-diseno-con-solidworks-chapa-metalica-2/
ORGANIZER;CN="SOLIDSERVICIOS":MAILTO:info@solidservicios.com
END:VEVENT
END:VCALENDAR