BEGIN:VCALENDAR
VERSION:2.0
PRODID:-//SolidServicios - ECPv6.3.3.1//NONSGML v1.0//EN
CALSCALE:GREGORIAN
METHOD:PUBLISH
X-WR-CALNAME:SolidServicios
X-ORIGINAL-URL:https://solidservicios.com
X-WR-CALDESC:Eventos para SolidServicios
REFRESH-INTERVAL;VALUE=DURATION:PT1H
X-Robots-Tag:noindex
X-PUBLISHED-TTL:PT1H
BEGIN:VTIMEZONE
TZID:America/Chicago
BEGIN:DAYLIGHT
TZOFFSETFROM:-0600
TZOFFSETTO:-0500
TZNAME:CDT
DTSTART:20220313T080000
END:DAYLIGHT
BEGIN:STANDARD
TZOFFSETFROM:-0500
TZOFFSETTO:-0600
TZNAME:CST
DTSTART:20221106T070000
END:STANDARD
END:VTIMEZONE
BEGIN:VEVENT
DTSTART;TZID=America/Chicago:20220608T160000
DTEND;TZID=America/Chicago:20220608T170000
DTSTAMP:20260422T033656
CREATED:20220519T020201Z
LAST-MODIFIED:20220525T234145Z
UID:24569-1654704000-1654707600@solidservicios.com
SUMMARY:WEBINAR : El Secreto Detrás del  Maquinado Perfecto
DESCRIPTION:  \n“El Secreto Detrás del Maquinado Perfecto“ \n¡EVENTO SIN COSTO! \n\n\n» Miércoles 8 de Junio  | 4:00 pm a 5:00 pm\n\n ¡REGISTRARSE AHORA! \n\n\n¡Descubre cómo optimizar tus procesos de maquinado! \n Acompáñanos en este webinar exclusivo y obtén TOTALMENTE GRATIS: \n\n»  Licencia de iMachining de prueba por 30 días.\n»  Soporte técnico por 30 días.\n» Taller de capacitación personalizado. 
URL:https://solidservicios.com/cal/webinar-el-secreto-detras-del-maquinado-perfecto/
END:VEVENT
END:VCALENDAR