BEGIN:VCALENDAR
VERSION:2.0
PRODID:-//SolidServicios - ECPv6.3.3.1//NONSGML v1.0//EN
CALSCALE:GREGORIAN
METHOD:PUBLISH
X-ORIGINAL-URL:https://solidservicios.com
X-WR-CALDESC:Eventos para SolidServicios
REFRESH-INTERVAL;VALUE=DURATION:PT1H
X-Robots-Tag:noindex
X-PUBLISHED-TTL:PT1H
BEGIN:VTIMEZONE
TZID:America/Chicago
BEGIN:DAYLIGHT
TZOFFSETFROM:-0600
TZOFFSETTO:-0500
TZNAME:CDT
DTSTART:20220313T080000
END:DAYLIGHT
BEGIN:STANDARD
TZOFFSETFROM:-0500
TZOFFSETTO:-0600
TZNAME:CST
DTSTART:20221106T070000
END:STANDARD
END:VTIMEZONE
BEGIN:VEVENT
DTSTART;TZID=America/Chicago:20220708T160000
DTEND;TZID=America/Chicago:20220708T170000
DTSTAMP:20260420T061951
CREATED:20220120T045556Z
LAST-MODIFIED:20220630T195313Z
UID:24009-1657296000-1657299600@solidservicios.com
SUMMARY:TALLER | Tácticas imperdibles ¡Obtén mejor rendimiento en SOLIDWORKS!
DESCRIPTION:Impartido por: \nIng. Noe Núñez Aguilar\nIngeniero de Aplicaciones Elite \nFecha y Hora: \nViernes 08 de Julio de 2022 | 4:00 pm a 5:00 pm \nDescripción: \nMejore su experiencia de usuario con tips importantes para el desempeño que le van a permitir obtener un mejor rendimiento para el performance y proceso de desarrollo con SOLIDWORKS.  \nBeneficios: \n• Conozca los elementos clave de SOLIDWORKS  \n• Mejore su rendimiento. \n• Obtenga un mejor performance para el proceso de diseño. \n  \n ¡REGISTRARSE AHORA!
URL:https://solidservicios.com/cal/taller-tacticas-imperdibles-para-obtener-mejor-rendimiento-para-solidworks/
ORGANIZER;CN="SOLIDSERVICIOS":MAILTO:info@solidservicios.com
END:VEVENT
END:VCALENDAR