BEGIN:VCALENDAR
VERSION:2.0
PRODID:-//SolidServicios - ECPv6.3.3.1//NONSGML v1.0//EN
CALSCALE:GREGORIAN
METHOD:PUBLISH
X-WR-CALNAME:SolidServicios
X-ORIGINAL-URL:https://solidservicios.com
X-WR-CALDESC:Eventos para SolidServicios
REFRESH-INTERVAL;VALUE=DURATION:PT1H
X-Robots-Tag:noindex
X-PUBLISHED-TTL:PT1H
BEGIN:VTIMEZONE
TZID:America/Mexico_City
BEGIN:DAYLIGHT
TZOFFSETFROM:-0600
TZOFFSETTO:-0500
TZNAME:CDT
DTSTART:20220403T080000
END:DAYLIGHT
BEGIN:STANDARD
TZOFFSETFROM:-0500
TZOFFSETTO:-0600
TZNAME:CST
DTSTART:20221030T070000
END:STANDARD
END:VTIMEZONE
BEGIN:VEVENT
DTSTART;TZID=America/Mexico_City:20220727T160000
DTEND;TZID=America/Mexico_City:20220727T170000
DTSTAMP:20260420T061846
CREATED:20220701T160110Z
LAST-MODIFIED:20220701T160130Z
UID:24798-1658937600-1658941200@solidservicios.com
SUMMARY:TALLER | Toolkit ¡Aprende a crear librerías!
DESCRIPTION:Impartido por: \nIng. Alejandro Zepeda Suárez\nIngeniero de Aplicaciones Experto CAD/CAM \nFecha y Hora: \nMiércoles 27 de Julio de 2022 | 4:00 pm a 5:00 pm \nDescripción: \nAprende a utilizar de manera adecuada la interfaz para la creación de  herramientas de corte\, crear librerias personalizadas y optimizar procesos de selección de herramientas de corte \nBeneficios: \n• Control de listas de herramientas. \n• Librerias de avances y velocidades. \n• Aumento de vida util de herramientas de corte. \n• Optimizar tiempos de maquinado. \n \n \n*seminario exclusivo para clientes activos* \n \n ¡REGISTRARSE AHORA!
URL:https://solidservicios.com/cal/taller-toolkit-aprende-a-crear-librerias/
ORGANIZER;CN="SOLIDSERVICIOS":MAILTO:info@solidservicios.com
END:VEVENT
END:VCALENDAR