BEGIN:VCALENDAR
VERSION:2.0
PRODID:-//SolidServicios - ECPv6.3.3.1//NONSGML v1.0//EN
CALSCALE:GREGORIAN
METHOD:PUBLISH
X-ORIGINAL-URL:https://solidservicios.com
X-WR-CALDESC:Eventos para SolidServicios
REFRESH-INTERVAL;VALUE=DURATION:PT1H
X-Robots-Tag:noindex
X-PUBLISHED-TTL:PT1H
BEGIN:VTIMEZONE
TZID:America/Mexico_City
BEGIN:DAYLIGHT
TZOFFSETFROM:-0600
TZOFFSETTO:-0500
TZNAME:CDT
DTSTART:20220403T080000
END:DAYLIGHT
BEGIN:STANDARD
TZOFFSETFROM:-0500
TZOFFSETTO:-0600
TZNAME:CST
DTSTART:20221030T070000
END:STANDARD
END:VTIMEZONE
BEGIN:VEVENT
DTSTART;TZID=America/Mexico_City:20220729T160000
DTEND;TZID=America/Mexico_City:20220729T170000
DTSTAMP:20260420T062020
CREATED:20220701T160510Z
LAST-MODIFIED:20220725T154026Z
UID:24800-1659110400-1659114000@solidservicios.com
SUMMARY:WEBINAR | ¡Mejora el diseño de tus productos eléctricos!
DESCRIPTION:Impartido por: \nIng. Eric Daniel Luna Gómez\nIngeniero de Aplicaciones Elite \nFecha y Hora: \nViernes 29 de Julio de 2022 | 4:00 pm a 5:00 pm \nDescripción: \nDisminuye el tiempo de desarrollo de tus productos con SOLIDWORKS Electrical\, automatiza diseños esquemáticos y vinculalos a tus proyectos CAD.  \nBeneficios: \n• Mejore la comunicación entre sus áreas de diseño mecánico y eléctrico. \n• Evite gastos inesperados. \n• Reduzca el uso de tareas repetitivas. \n• Disminuya el tiempo de diseño. \n  \n ¡REGISTRARSE AHORA!
URL:https://solidservicios.com/cal/webinar-mejora-el-diseno-de-sus-productos-electricos/
ORGANIZER;CN="SOLIDSERVICIOS":MAILTO:info@solidservicios.com
END:VEVENT
END:VCALENDAR