BEGIN:VCALENDAR
VERSION:2.0
PRODID:-//SolidServicios - ECPv6.3.3.1//NONSGML v1.0//EN
CALSCALE:GREGORIAN
METHOD:PUBLISH
X-ORIGINAL-URL:https://solidservicios.com
X-WR-CALDESC:Eventos para SolidServicios
REFRESH-INTERVAL;VALUE=DURATION:PT1H
X-Robots-Tag:noindex
X-PUBLISHED-TTL:PT1H
BEGIN:VTIMEZONE
TZID:America/Mexico_City
BEGIN:DAYLIGHT
TZOFFSETFROM:-0600
TZOFFSETTO:-0500
TZNAME:CDT
DTSTART:20220403T080000
END:DAYLIGHT
BEGIN:STANDARD
TZOFFSETFROM:-0500
TZOFFSETTO:-0600
TZNAME:CST
DTSTART:20221030T070000
END:STANDARD
END:VTIMEZONE
BEGIN:VEVENT
DTSTART;TZID=America/Mexico_City:20220812T160000
DTEND;TZID=America/Mexico_City:20220812T170000
DTSTAMP:20260420T044841
CREATED:20220728T184857Z
LAST-MODIFIED:20220728T185039Z
UID:24895-1660320000-1660323600@solidservicios.com
SUMMARY:WEBINAR | Impresión 3D: Innovación en diseño.
DESCRIPTION:Impartido por: \nIng. Luis Daniel Campos\nIngeniero de Aplicaciones Elite \nFecha y Hora: \nViernes 12 de Agosto de 2022 | 4:00 pm a 5:00 pm \nDescripción: \nAprende a optimizar tus diseños para sacar el mayor provecho de la tecnología de impresión 3D \nBeneficios: \n• Disminuye la masa de la pieza. \n• Disminuye el material empleado para la impresión y los tiemposde impresión. \n  \n ¡REGISTRARSE AHORA!
URL:https://solidservicios.com/cal/webinar-impresion-3d-innovacion-en-diseno/
LOCATION:SOLIDSERVICIOS\, Santa Laura 626\, Jardín de San Ignacio\, 45040 Zapopan\, Jal.\, Guadalajara\, Jalisco\, 45040\, México
ORGANIZER;CN="SOLIDSERVICIOS":MAILTO:info@solidservicios.com
END:VEVENT
END:VCALENDAR