BEGIN:VCALENDAR
VERSION:2.0
PRODID:-//SolidServicios - ECPv6.3.3.1//NONSGML v1.0//EN
CALSCALE:GREGORIAN
METHOD:PUBLISH
X-ORIGINAL-URL:https://solidservicios.com
X-WR-CALDESC:Eventos para SolidServicios
REFRESH-INTERVAL;VALUE=DURATION:PT1H
X-Robots-Tag:noindex
X-PUBLISHED-TTL:PT1H
BEGIN:VTIMEZONE
TZID:America/Mexico_City
BEGIN:DAYLIGHT
TZOFFSETFROM:-0600
TZOFFSETTO:-0500
TZNAME:CDT
DTSTART:20220403T080000
END:DAYLIGHT
BEGIN:STANDARD
TZOFFSETFROM:-0500
TZOFFSETTO:-0600
TZNAME:CST
DTSTART:20221030T070000
END:STANDARD
END:VTIMEZONE
BEGIN:VEVENT
DTSTART;TZID=America/Mexico_City:20220902T160000
DTEND;TZID=America/Mexico_City:20220902T170000
DTSTAMP:20260420T032030
CREATED:20220728T191203Z
LAST-MODIFIED:20220728T191323Z
UID:24901-1662134400-1662138000@solidservicios.com
SUMMARY:TALLER | ¡Calcula la resistencia de tus piezas con SIMULATIONXpress!
DESCRIPTION:Impartido por: \nIng. Eric Daniel Luna Gómez\nIngeniero de Aplicaciones Elite \nFecha y Hora: \nViernes 2 de Septiembre de 2022 | 4:00 pm a 5:00 pm \nDescripción: \nGarantiza el funcionamiento de tus piezas en condiciones reales con SOLIDWORKS SimulationXpress es una herramienta de análisis de tensiones y desplazamientos\, disponible para todos los usuarios de SOLIDWORKS. \nBeneficios: \n• Acelera la salida al mercado de sus productos. \n• Reduce el número de prototipos y ahorra dinero. \n• Asegura la funcionalidad de tus proyectos. \n  \n ¡REGISTRARSE AHORA!
URL:https://solidservicios.com/cal/taller-calcula-la-resistencia-de-tus-piezas-con-simulationxpress/
ORGANIZER;CN="SOLIDSERVICIOS":MAILTO:info@solidservicios.com
END:VEVENT
END:VCALENDAR