BEGIN:VCALENDAR
VERSION:2.0
PRODID:-//SolidServicios - ECPv6.3.3.1//NONSGML v1.0//EN
CALSCALE:GREGORIAN
METHOD:PUBLISH
X-ORIGINAL-URL:https://solidservicios.com
X-WR-CALDESC:Eventos para SolidServicios
REFRESH-INTERVAL;VALUE=DURATION:PT1H
X-Robots-Tag:noindex
X-PUBLISHED-TTL:PT1H
BEGIN:VTIMEZONE
TZID:America/Mexico_City
BEGIN:DAYLIGHT
TZOFFSETFROM:-0600
TZOFFSETTO:-0500
TZNAME:CDT
DTSTART:20220403T080000
END:DAYLIGHT
BEGIN:STANDARD
TZOFFSETFROM:-0500
TZOFFSETTO:-0600
TZNAME:CST
DTSTART:20221030T070000
END:STANDARD
END:VTIMEZONE
BEGIN:VEVENT
DTSTART;TZID=America/Mexico_City:20220909T160000
DTEND;TZID=America/Mexico_City:20220909T170000
DTSTAMP:20260420T031945
CREATED:20220728T191206Z
LAST-MODIFIED:20220811T150244Z
UID:24902-1662739200-1662742800@solidservicios.com
SUMMARY:WEBINAR | Genera renderizados de manera sencilla y rápida con 3D Render y 3DEXPERIENCE
DESCRIPTION:Impartido por: \nIng. Noé Nuñez Aguilar\nIngeniero de Aplicaciones Elite \nFecha y Hora: \nViernes 9 de septiembre de 2022 | 4:00 pm a 5:00 pm \nDescripción: \nAprende a renderizar en apps basadas en la nube\, crea y comparte representaciones fotorrealistas de alta calidad utilizando el poder de la nube. \nBeneficios: \n• Crea contenido fácil y rápido. \n• Obtén flexibilidad de tus diseños con 3DEXPERIENCE. \n• Optimiza el proceso de creación de renderizados. \n  \n ¡REGISTRARSE AHORA!
URL:https://solidservicios.com/cal/webinar-genera-renderizados-de-manera-sencilla-y-rapida-con-3d-render-y-3dexperience/
ORGANIZER;CN="SOLIDSERVICIOS":MAILTO:info@solidservicios.com
END:VEVENT
END:VCALENDAR