BEGIN:VCALENDAR
VERSION:2.0
PRODID:-//SolidServicios - ECPv6.3.3.1//NONSGML v1.0//EN
CALSCALE:GREGORIAN
METHOD:PUBLISH
X-ORIGINAL-URL:https://solidservicios.com
X-WR-CALDESC:Eventos para SolidServicios
REFRESH-INTERVAL;VALUE=DURATION:PT1H
X-Robots-Tag:noindex
X-PUBLISHED-TTL:PT1H
BEGIN:VTIMEZONE
TZID:America/Mexico_City
BEGIN:DAYLIGHT
TZOFFSETFROM:-0600
TZOFFSETTO:-0500
TZNAME:CDT
DTSTART:20220403T080000
END:DAYLIGHT
BEGIN:STANDARD
TZOFFSETFROM:-0500
TZOFFSETTO:-0600
TZNAME:CST
DTSTART:20221030T070000
END:STANDARD
END:VTIMEZONE
BEGIN:VEVENT
DTSTART;TZID=America/Mexico_City:20220914T160000
DTEND;TZID=America/Mexico_City:20220914T170000
DTSTAMP:20260420T062055
CREATED:20220728T191209Z
LAST-MODIFIED:20220728T191209Z
UID:24903-1663171200-1663174800@solidservicios.com
SUMMARY:TALLER | Cálculo automático de costos.
DESCRIPTION:Impartido por: \nIng. Alejandro Zepeda\nIngeniero de Aplicaciones Experto CAD/CAM \nFecha y Hora: \nMiércoles 14 de Septiembre de 2022 | 4:00 pm a 5:00 pm \nDescripción: \nLa herramienta de cálculo automático de costos de SOLIDWORKS genera estimaciones de costos de fabricación de piezas que se ajustan cada vez que modificas tu diseño. Puedes realizar un seguimiento de los costos fácilmente para asegurarte de que tus proyectos se mantengan en el objetivo para alcanzar las metas de ganancias. Los diseñadores pueden tomar decisiones de diseño más rápidas\, repetibles y más informadas basadas en el costo y cambiar sus diseños para reducir el costo de fabricación.  \nBeneficios: \n• Alcanza los objetivos de costos y márgenes de ganancias saludables. \n• “Diseña por costo” por adelantado y elimina la necesidad de “Rediseñar por costo” más adelante. \n• Más rápido y más repetible que las cotizaciones de fabricación externa e interna. \n  \n ¡REGISTRARSE AHORA!
URL:https://solidservicios.com/cal/taller-calculo-automatico-de-costos/
ORGANIZER;CN="SOLIDSERVICIOS":MAILTO:info@solidservicios.com
END:VEVENT
END:VCALENDAR