BEGIN:VCALENDAR
VERSION:2.0
PRODID:-//SolidServicios - ECPv6.3.3.1//NONSGML v1.0//EN
CALSCALE:GREGORIAN
METHOD:PUBLISH
X-WR-CALNAME:SolidServicios
X-ORIGINAL-URL:https://solidservicios.com
X-WR-CALDESC:Eventos para SolidServicios
REFRESH-INTERVAL;VALUE=DURATION:PT1H
X-Robots-Tag:noindex
X-PUBLISHED-TTL:PT1H
BEGIN:VTIMEZONE
TZID:America/Mexico_City
BEGIN:DAYLIGHT
TZOFFSETFROM:-0600
TZOFFSETTO:-0500
TZNAME:CDT
DTSTART:20250406T080000
END:DAYLIGHT
BEGIN:STANDARD
TZOFFSETFROM:-0500
TZOFFSETTO:-0600
TZNAME:CST
DTSTART:20251026T070000
END:STANDARD
END:VTIMEZONE
BEGIN:VEVENT
DTSTART;TZID=America/Mexico_City:20250516T160000
DTEND;TZID=America/Mexico_City:20250516T170000
DTSTAMP:20260421T034903
CREATED:20250428T181900Z
LAST-MODIFIED:20250428T194425Z
UID:30992-1747411200-1747414800@solidservicios.com
SUMMARY:WEBINAR |  Geomagic en Acción
DESCRIPTION:Impartido por: \nIng. Hiram Lugo \nIngeniero de Aplicaciones   \nIng. Jaime Borrego  \nConsultor Experto Manufactura \nFecha y Hora: \nViernes 16 de mayo del 2025 | 4:00 pm a 5:00 pm \nDescripción:  \n¡Listos\, Escáner y Acción! \nDescubre como con esta herramienta convertirás nubes de puntos en modelos CAD\, hacerlos funcionales en minutos\, además aprenderás como acelerar el desarrollo de tus productos con este sistema. \n  \n¡REGISTRARSE AHORA!
URL:https://solidservicios.com/cal/webinar-geomagic-en-accion/
END:VEVENT
END:VCALENDAR