BEGIN:VCALENDAR
VERSION:2.0
PRODID:-//SolidServicios - ECPv6.3.3.1//NONSGML v1.0//EN
CALSCALE:GREGORIAN
METHOD:PUBLISH
X-ORIGINAL-URL:https://solidservicios.com
X-WR-CALDESC:Eventos para SolidServicios
REFRESH-INTERVAL;VALUE=DURATION:PT1H
X-Robots-Tag:noindex
X-PUBLISHED-TTL:PT1H
BEGIN:VTIMEZONE
TZID:America/Mexico_City
BEGIN:DAYLIGHT
TZOFFSETFROM:-0600
TZOFFSETTO:-0500
TZNAME:CDT
DTSTART:20250406T080000
END:DAYLIGHT
BEGIN:STANDARD
TZOFFSETFROM:-0500
TZOFFSETTO:-0600
TZNAME:CST
DTSTART:20251026T070000
END:STANDARD
END:VTIMEZONE
BEGIN:VEVENT
DTSTART;TZID=America/Mexico_City:20250523T160000
DTEND;TZID=America/Mexico_City:20250523T170000
DTSTAMP:20260421T064647
CREATED:20250428T182103Z
LAST-MODIFIED:20250428T194635Z
UID:30994-1748016000-1748019600@solidservicios.com
SUMMARY:TALLER | 3DEXPERIENCE en Acción: Potencia el diseño\, la planificación\, la colaboración y validación. (Parte 3)
DESCRIPTION:Impartido por: \nIng. Noé Núñez \nCoordinador de Ingeniería  \nFecha y Hora: \nViernes 23 de mayo del 2025 | 4:00 pm a 5:00 pm \nDescripción:  \nEn esta tercera entrega de la serie “3DEXPERIENCE en Acción”\, exploraremos cómo la plataforma 3DEXPERIENCE potencia el proceso de diseño desde la ideación hasta la ejecución. Descubre cómo las herramientas avanzadas de diseño 3D y las capacidades integradas de colaboración permiten crear productos innovadores con mayor rapidez y precisión. Aprende a optimizar tus flujos de trabajo y a conectar tus diseños con el resto de las etapas del ciclo de vida del producto. \n  \n¡REGISTRARSE AHORA!
URL:https://solidservicios.com/cal/taller-3dexperience-en-accion-potencia-el-diseno-la-planificacion-la-colaboracion-y-validacion-parte-3/
END:VEVENT
END:VCALENDAR