BEGIN:VCALENDAR
VERSION:2.0
PRODID:-//SolidServicios - ECPv6.3.3.1//NONSGML v1.0//EN
CALSCALE:GREGORIAN
METHOD:PUBLISH
X-WR-CALNAME:SolidServicios
X-ORIGINAL-URL:https://solidservicios.com
X-WR-CALDESC:Eventos para SolidServicios
REFRESH-INTERVAL;VALUE=DURATION:PT1H
X-Robots-Tag:noindex
X-PUBLISHED-TTL:PT1H
BEGIN:VTIMEZONE
TZID:America/Mexico_City
BEGIN:DAYLIGHT
TZOFFSETFROM:-0600
TZOFFSETTO:-0500
TZNAME:CDT
DTSTART:20250406T080000
END:DAYLIGHT
BEGIN:STANDARD
TZOFFSETFROM:-0500
TZOFFSETTO:-0600
TZNAME:CST
DTSTART:20251026T070000
END:STANDARD
END:VTIMEZONE
BEGIN:VEVENT
DTSTART;TZID=America/Mexico_City:20250606T160000
DTEND;TZID=America/Mexico_City:20250606T170000
DTSTAMP:20260421T131001
CREATED:20250528T222446Z
LAST-MODIFIED:20250529T195145Z
UID:31129-1749225600-1749229200@solidservicios.com
SUMMARY:TALLER | 3DEXPERIENCE en Acción:  Eleva tu Creatividad y Precisión en el Diseño (Parte 4)"
DESCRIPTION:Impartido por: \nIng. David Pérez  \nIngeniero de aplicaciones \nFecha y Hora: \nViernes 6 de junio del 2025 | 4:00 pm a 5:00 pm \nDescripción:  \nEn la última entrega de la serie “3DEXPERIENCE en Acción”\, exploraremos cómo la plataforma 3DEXPERIENCE te permite validar tus diseños con precisión y confianza. Aprende a realizar simulaciones avanzadas\, verificar el rendimiento de tus productos y garantizar que cumplan con los estándares antes de la producción. Descubre cómo reducir costos\, tiempos y riesgos al incorporar la validación como una parte esencial de tu proceso de desarrollo.. \n  \n¡REGISTRARSE AHORA!
URL:https://solidservicios.com/cal/taller-3dexperience-en-accion-eleva-tu-creatividad-y-precision-en-el-diseno-parte-4/
END:VEVENT
END:VCALENDAR