BEGIN:VCALENDAR
VERSION:2.0
PRODID:-//SolidServicios - ECPv6.3.3.1//NONSGML v1.0//EN
CALSCALE:GREGORIAN
METHOD:PUBLISH
X-ORIGINAL-URL:https://solidservicios.com
X-WR-CALDESC:Eventos para SolidServicios
REFRESH-INTERVAL;VALUE=DURATION:PT1H
X-Robots-Tag:noindex
X-PUBLISHED-TTL:PT1H
BEGIN:VTIMEZONE
TZID:America/Mexico_City
BEGIN:DAYLIGHT
TZOFFSETFROM:-0600
TZOFFSETTO:-0500
TZNAME:CDT
DTSTART:20250406T080000
END:DAYLIGHT
BEGIN:STANDARD
TZOFFSETFROM:-0500
TZOFFSETTO:-0600
TZNAME:CST
DTSTART:20251026T070000
END:STANDARD
END:VTIMEZONE
BEGIN:VEVENT
DTSTART;TZID=America/Mexico_City:20250627T160000
DTEND;TZID=America/Mexico_City:20250627T170000
DTSTAMP:20260421T161820
CREATED:20250528T224228Z
LAST-MODIFIED:20250528T224236Z
UID:31143-1751040000-1751043600@solidservicios.com
SUMMARY:WEBINAR | Product Release Engineer en 3DEXPERIENCE: Trazabilidad\, control y éxito en tus entregas.
DESCRIPTION:Impartido por: \nIng. Noe Núñez \nCoordinador de Ingeniería ELITE  \nIng. Edwin Bárcena  \n3DEXPERIENCE Sales Manager   \nFecha y Hora: \nViernes 27 de junio del 2025 | 4:00 pm a 5:00 pm \nDescripción:  \nLa gestión eficiente de entregas en proyectos de ingeniería no es una opción: es una necesidad. \nEn este webinar exploraremos cómo Product Release Engineer dentro de la plataforma 3DEXPERIENCE te permite estructurar\, validar y liberar información crítica de producto con total control\, trazabilidad y colaboración entre áreas. \nDescubre cómo optimizar tus procesos de liberación y garantizar que lo que llega a producción es exactamente lo que debe llegar.” \n  \n¡REGISTRARSE AHORA!
URL:https://solidservicios.com/cal/webinar-product-release-engineer-en-3dexperience-trazabilidad-control-y-exito-en-tus-entregas/
END:VEVENT
END:VCALENDAR