BEGIN:VCALENDAR
VERSION:2.0
PRODID:-//SolidServicios - ECPv6.3.3.1//NONSGML v1.0//EN
CALSCALE:GREGORIAN
METHOD:PUBLISH
X-WR-CALNAME:SolidServicios
X-ORIGINAL-URL:https://solidservicios.com
X-WR-CALDESC:Eventos para SolidServicios
REFRESH-INTERVAL;VALUE=DURATION:PT1H
X-Robots-Tag:noindex
X-PUBLISHED-TTL:PT1H
BEGIN:VTIMEZONE
TZID:America/Mexico_City
BEGIN:DAYLIGHT
TZOFFSETFROM:-0600
TZOFFSETTO:-0500
TZNAME:CDT
DTSTART:20250406T080000
END:DAYLIGHT
BEGIN:STANDARD
TZOFFSETFROM:-0500
TZOFFSETTO:-0600
TZNAME:CST
DTSTART:20251026T070000
END:STANDARD
END:VTIMEZONE
BEGIN:VEVENT
DTSTART;TZID=America/Mexico_City:20250709T160000
DTEND;TZID=America/Mexico_City:20250709T170000
DTSTAMP:20260421T174648
CREATED:20250630T224305Z
LAST-MODIFIED:20250630T224305Z
UID:31362-1752076800-1752080400@solidservicios.com
SUMMARY:WEBINAR EXTRA | Del concepto a la liberación: conecta equipos y acelera tus proyectos con 3DEXPERIENCE
DESCRIPTION:Impartido por: \nIng. Noe Núñez \nCoordinador de Ingeniería ELITE  \nIng. Gerardo Santiafgo Bárcena  \nAsesor Experto 3DEXPERIENCE    \nFecha y Hora: \nMiércoles 09 de julio del 2025 | 4:00 pm a 5:00 pm \nDescripción:  \nEn este webinar conocerás cómo las soluciones Project Planner\, 3D Product Architect y Product Release Engineer de la plataforma 3DEXPERIENCE pueden transformar la forma en que gestionas tus proyectos\, estructuras tus productos y controlas sus liberaciones. \nMostraremos cómo estas herramientas permiten colaborar de forma ágil entre áreas de ingeniería\, planeación y producción\, asegurando trazabilidad\, control de cambios y eficiencia en cada etapa del ciclo de vida del producto. \nSi tu empresa busca optimizar tiempos\, eliminar retrabajos y mejorar la coordinación entre equipos\, esta sesión es para ti. \n  \n¡REGISTRARSE AHORA!
URL:https://solidservicios.com/cal/webinar-extra-del-concepto-a-la-liberacion-conecta-equipos-y-acelera-tus-proyectos-con-3dexperience/
END:VEVENT
END:VCALENDAR