BEGIN:VCALENDAR
VERSION:2.0
PRODID:-//SolidServicios - ECPv6.3.3.1//NONSGML v1.0//EN
CALSCALE:GREGORIAN
METHOD:PUBLISH
X-ORIGINAL-URL:https://solidservicios.com
X-WR-CALDESC:Eventos para SolidServicios
REFRESH-INTERVAL;VALUE=DURATION:PT1H
X-Robots-Tag:noindex
X-PUBLISHED-TTL:PT1H
BEGIN:VTIMEZONE
TZID:America/Mexico_City
BEGIN:DAYLIGHT
TZOFFSETFROM:-0600
TZOFFSETTO:-0500
TZNAME:CDT
DTSTART:20250406T080000
END:DAYLIGHT
BEGIN:STANDARD
TZOFFSETFROM:-0500
TZOFFSETTO:-0600
TZNAME:CST
DTSTART:20251026T070000
END:STANDARD
END:VTIMEZONE
BEGIN:VEVENT
DTSTART;TZID=America/Mexico_City:20250819T093000
DTEND;TZID=America/Mexico_City:20250819T120000
DTSTAMP:20260421T191545
CREATED:20250812T172136Z
LAST-MODIFIED:20250812T172606Z
UID:31596-1755595800-1755604800@solidservicios.com
SUMMARY:CONFERENCIA PRESENCIAL | INDUSTRIA BLINDADA ESTRATEGIAS MODERNAS EN CIBERSEGURIDAD
DESCRIPTION:Protege tus activos más valiosos con Kaspersky  \nSoluciones reales para enfrentar amenazas avanzadas en entornos industriales y corporativos. \n\n\nEn un mundo donde las amenazas cibernéticas son cada vez más sofisticadas\, las organizaciones enfrentan el enorme reto de proteger tanto su red corporativa como sus sistemas de control industrial. Los ataques dirigidos\, el ransomware y las vulnerabilidades en entornos OT/IT pueden poner en riesgo no solo la información\, sino la continuidad operativa de toda la empresa. \n\nDescubre cómo las tecnologías de Kaspersky Anti Targeted Attack (KATA) Ultra y Kaspersky Industrial CyberSecurity (KICS) permiten: \n\nDetectar y contener amenazas avanzadas (APT) antes de que afecten tu operación\nProteger sistemas industriales críticos como SCADA\, HMI\, PLC y redes OT\nCumplir con estándares internacionales como ISO/IEC 27001\, MITRE ATT&CK\, IEC 62443 y NIST\n\nFecha: Martes 19 de agosto del 2025 | 9:30 am \nLugar: Lobby 33\, Zapopan Jalisco \nAsiste a nuestra conferencia presencial\, mas información clic en el enlace \n  \n¡REGISTRARSE AHORA!
URL:https://solidservicios.com/cal/conferencia-presencial-industria-blindada-estrategias-modernas-en-ciberseguridad/
END:VEVENT
END:VCALENDAR