BEGIN:VCALENDAR
VERSION:2.0
PRODID:-//SolidServicios - ECPv6.3.3.1//NONSGML v1.0//EN
CALSCALE:GREGORIAN
METHOD:PUBLISH
X-ORIGINAL-URL:https://solidservicios.com
X-WR-CALDESC:Eventos para SolidServicios
REFRESH-INTERVAL;VALUE=DURATION:PT1H
X-Robots-Tag:noindex
X-PUBLISHED-TTL:PT1H
BEGIN:VTIMEZONE
TZID:America/Mexico_City
BEGIN:DAYLIGHT
TZOFFSETFROM:-0600
TZOFFSETTO:-0500
TZNAME:CDT
DTSTART:20250406T080000
END:DAYLIGHT
BEGIN:STANDARD
TZOFFSETFROM:-0500
TZOFFSETTO:-0600
TZNAME:CST
DTSTART:20251026T070000
END:STANDARD
END:VTIMEZONE
BEGIN:VEVENT
DTSTART;TZID=America/Mexico_City:20250926T160000
DTEND;TZID=America/Mexico_City:20250926T170000
DTSTAMP:20260422T001420
CREATED:20250829T235553Z
LAST-MODIFIED:20250829T235553Z
UID:31654-1758902400-1758906000@solidservicios.com
SUMMARY:TALLER l Creación de Plantillas Personalizadas desde 0 en SOLIDWORKS
DESCRIPTION:Impartido por: \nIng. Hiram Lugo \nIngeniero de aplicaciones \nFecha y Hora: \nViernes 26 de septiembre del 2025 | 4:00 pm a 5:00 pm \nDescripción:  \n¿Quieres optimizar y estandarizar la creación de tus dibujos técnicos? \nEn este taller práctico aprenderás a diseñar una plantilla personalizada en SOLIDWORKS desde cero\, considerando aspectos clave como el tamaño y formato de hoja\, configuración\, propiedades automáticas y vistas de dibujo predefinidas. \nTe guiaremos paso a paso para que puedas automatizar la generación de dibujos\, logrando así mayor eficiencia y consistencia en tus proyectos. \n¡No pierdas la oportunidad de transformar tu flujo de trabajo y llevar la documentación de tus diseños al siguiente nivel! \n¡REGISTRARSE AHORA!
URL:https://solidservicios.com/cal/taller-l-creacion-de-plantillas-personalizadas-desde-0-en-solidworks/
END:VEVENT
END:VCALENDAR