BEGIN:VCALENDAR
VERSION:2.0
PRODID:-//SolidServicios - ECPv6.3.3.1//NONSGML v1.0//EN
CALSCALE:GREGORIAN
METHOD:PUBLISH
X-ORIGINAL-URL:https://solidservicios.com
X-WR-CALDESC:Eventos para SolidServicios
REFRESH-INTERVAL;VALUE=DURATION:PT1H
X-Robots-Tag:noindex
X-PUBLISHED-TTL:PT1H
BEGIN:VTIMEZONE
TZID:America/Mexico_City
BEGIN:DAYLIGHT
TZOFFSETFROM:-0600
TZOFFSETTO:-0500
TZNAME:CDT
DTSTART:20260405T080000
END:DAYLIGHT
BEGIN:STANDARD
TZOFFSETFROM:-0500
TZOFFSETTO:-0600
TZNAME:CST
DTSTART:20261025T070000
END:STANDARD
END:VTIMEZONE
BEGIN:VEVENT
DTSTART;TZID=America/Mexico_City:20260206T160000
DTEND;TZID=America/Mexico_City:20260206T170000
DTSTAMP:20260425T094650
CREATED:20260204T165259Z
LAST-MODIFIED:20260204T165933Z
UID:32360-1770393600-1770397200@solidservicios.com
SUMMARY:⚡ Webinar:  Diseño Mecánico y Eléctrico Sincronizado en un Solo Paso
DESCRIPTION:Impartido por: \nIng. Luis Hidalgo \nIngeniero de aplicaciones  \nFecha y Hora: \nViernes 06 de febrero del 2026 | 4:00 pm a 5:00 pm \nDescripción:  \n\nEn entornos industriales\, los errores derivados de una mala coordinación entre el diseño mecánico y eléctrico pueden traducirse en retrabajos\, retrasos en producción\, riesgos durante el ensamble y la puesta en marcha. \nPor ello\, te invitamos a nuestro webinar ¡Diseño Mecánico y Eléctrico Sincronizado en un Solo Paso! \nDurante esta sesión conocerás cómo lograr una integración efectiva entre esquemas eléctricos y modelos mecánicos 3D\, permitiendo validar desde la etapa de ingeniería que cada cable\, componente y conexión se ajuste correctamente dentro del gabinete o equipo antes de llegar a planta. \n¿Qué se abordará en el webinar? \n\nIntegración del diseño eléctrico con el modelo mecánico 3D\nSincronización bidireccional entre mecánica y electricidad\nValidación de rutas de cableado\, longitudes e interferencias\nControl de cambios en ingeniería sin afectar la operación\nImpacto directo en reducción de errores y tiempos de fabricación\n\n  \n👇🏻 Regístrate y descubre cómo integrar el diseño mecánico y eléctrico en un solo flujo de trabajo. \n  \n\n¡REGISTRARSE AHORA!
URL:https://solidservicios.com/cal/%e2%9a%a1-webinar-diseno-mecanico-y-electrico-sincronizado-en-un-solo-paso/
END:VEVENT
END:VCALENDAR