BEGIN:VCALENDAR
VERSION:2.0
PRODID:-//SolidServicios - ECPv6.3.3.1//NONSGML v1.0//EN
CALSCALE:GREGORIAN
METHOD:PUBLISH
X-ORIGINAL-URL:https://solidservicios.com
X-WR-CALDESC:Eventos para SolidServicios
REFRESH-INTERVAL;VALUE=DURATION:PT1H
X-Robots-Tag:noindex
X-PUBLISHED-TTL:PT1H
BEGIN:VTIMEZONE
TZID:America/Mexico_City
BEGIN:DAYLIGHT
TZOFFSETFROM:-0600
TZOFFSETTO:-0500
TZNAME:CDT
DTSTART:20260405T080000
END:DAYLIGHT
BEGIN:STANDARD
TZOFFSETFROM:-0500
TZOFFSETTO:-0600
TZNAME:CST
DTSTART:20261025T070000
END:STANDARD
END:VTIMEZONE
BEGIN:VEVENT
DTSTART;TZID=America/Mexico_City:20260213T160000
DTEND;TZID=America/Mexico_City:20260213T170000
DTSTAMP:20260425T094645
CREATED:20260211T171620Z
LAST-MODIFIED:20260211T171620Z
UID:32385-1770998400-1771002000@solidservicios.com
SUMMARY:🎓Taller: SOLIDWORKS Costing: del modelo CAD al costo de fabricación
DESCRIPTION:Impartido por: \nIng. Hiram Lugo \nIngeniero de aplicaciones ELITE \nFecha y Hora: \nViernes 13 de febrero del 2026 | 4:00 pm a 5:00 pm \nDescripción:  \n\nTe invitamos a participar en nuestro taller online de SOLIDWORKS Costing\, donde se revisarán las herramientas de costeo aplicadas a procesos de fabricación comunes en diseño mecánico. \nDurante la sesión veremos: \n\nPerfiles estructurales\nChapa metálica\nCordones de soldadura\nOperaciones de corte y doblez\n\nEl taller está diseñado para mostrar cómo evaluar el impacto del diseño en el costo de fabricación de manera práctica\, directamente desde el modelo CAD. \n👉🏻 Reserve su lugar ahora. ¡Haz tu registro! \n\n¡REGISTRARSE AHORA!
URL:https://solidservicios.com/cal/%f0%9f%8e%93taller-solidworks-costing-del-modelo-cad-al-costo-de-fabricacion/
END:VEVENT
END:VCALENDAR