BEGIN:VCALENDAR
VERSION:2.0
PRODID:-//SolidServicios - ECPv6.3.3.1//NONSGML v1.0//EN
CALSCALE:GREGORIAN
METHOD:PUBLISH
X-ORIGINAL-URL:https://solidservicios.com
X-WR-CALDESC:Eventos para SolidServicios
REFRESH-INTERVAL;VALUE=DURATION:PT1H
X-Robots-Tag:noindex
X-PUBLISHED-TTL:PT1H
BEGIN:VTIMEZONE
TZID:America/Mexico_City
BEGIN:DAYLIGHT
TZOFFSETFROM:-0600
TZOFFSETTO:-0500
TZNAME:CDT
DTSTART:20260405T080000
END:DAYLIGHT
BEGIN:STANDARD
TZOFFSETFROM:-0500
TZOFFSETTO:-0600
TZNAME:CST
DTSTART:20261025T070000
END:STANDARD
END:VTIMEZONE
BEGIN:VEVENT
DTSTART;TZID=America/Mexico_City:20260220T160000
DTEND;TZID=America/Mexico_City:20260220T170000
DTSTAMP:20260425T094644
CREATED:20260219T182721Z
LAST-MODIFIED:20260219T183830Z
UID:32427-1771603200-1771606800@solidservicios.com
SUMMARY:🎯 Webinar: Imágenes que impulsan decisiones
DESCRIPTION:Impartido por: \nIng. Hiram Lugo \nIngeniero de aplicaciones ELITE \nIng. Francisco Zarate \nAsesor Experto CAD \nFecha y Hora: \nViernes 20 de febrero del 2026 | 4:00 pm a 5:00 pm \nDescripción:  \n\nConvierte tus modelos en experiencias visuales de alto impacto \nTransforma tus modelos en imágenes fotorealistas con calidad publicitaria. \nEn esta sesión demostrativa aprenderás a generar renders de alto impacto aplicando materiales avanzados\, iluminación profesional y escenarios realistas para visualizar el producto terminado antes de su fabricación. \nDescubre cómo realizar ajustes dinámicos en colores\, acabados y configuraciones para presentar distintas variantes con mayor realismo y claridad. \nExplora el potencial de las herramientas de visualización integradas en tu entorno de diseño y conoce las capacidades disponibles para maximizar el impacto visual de tus proyectos. \n¿Qué obtendrás en esta sesión? \n\nImágenes con apariencia de fotografía profesional\nMayor impacto en presentaciones técnicas y comerciales\nVisualización clara de variantes y configuraciones\nUna nueva forma de fortalecer la toma de decisiones\n\n  \n👉 Reserva mi lugar sin costo.  \n\n¡REGISTRARSE AHORA!
URL:https://solidservicios.com/cal/%f0%9f%8e%af-webinar-imagenes-que-impulsan-decisiones/
END:VEVENT
END:VCALENDAR