BEGIN:VCALENDAR
VERSION:2.0
PRODID:-//SolidServicios - ECPv6.3.3.1//NONSGML v1.0//EN
CALSCALE:GREGORIAN
METHOD:PUBLISH
X-WR-CALNAME:SolidServicios
X-ORIGINAL-URL:https://solidservicios.com
X-WR-CALDESC:Eventos para SolidServicios
REFRESH-INTERVAL;VALUE=DURATION:PT1H
X-Robots-Tag:noindex
X-PUBLISHED-TTL:PT1H
BEGIN:VTIMEZONE
TZID:America/Mexico_City
BEGIN:DAYLIGHT
TZOFFSETFROM:-0600
TZOFFSETTO:-0500
TZNAME:CDT
DTSTART:20260405T080000
END:DAYLIGHT
BEGIN:STANDARD
TZOFFSETFROM:-0500
TZOFFSETTO:-0600
TZNAME:CST
DTSTART:20261025T070000
END:STANDARD
END:VTIMEZONE
BEGIN:VEVENT
DTSTART;TZID=America/Mexico_City:20260410T160000
DTEND;TZID=America/Mexico_City:20260410T170000
DTSTAMP:20260420T032434
CREATED:20260406T181246Z
LAST-MODIFIED:20260406T194034Z
UID:32630-1775836800-1775840400@solidservicios.com
SUMMARY:Taller | Gestiona tus Proyectos de Ingeniería con Agile Scrum en 3DEXPERIENCE
DESCRIPTION:En este webinar aprenderás cómo organizar y dar seguimiento a un proyecto de ingenieria utilizando la metodología Agile Scrum dentro de 3DEXPERIENCE\, combinando herramientas de colaboración y planificación pensadas para equipos de ingeniería.  \nMostraremos cómo crear y gestionar un proyecto utilizando los roles Collaborative Industry Innovator y Project Planner\, destacando las herramientas que permiten coordinar tareas\, visualizar avances y mejorar la comunicación entre los miembros del equipo.  \nDescubre cómo conectar el trabajo de diseño en SOLIDWORKS con un entorno colaborativo que facilita la organización de actividades\, el seguimiento de avances y la toma de decisiones durante el desarrollo del producto. \n✔️ Control total de tus proyectos\nOrganiza tareas\, responsables y tiempos en un solo lugar con metodologías ágiles. \n✔️ Visibilidad en tiempo real\nMonitorea avances\, identifica bloqueos y toma decisiones más rápidas. \n✔️ Colaboración sin fricción\nConecta equipos de ingeniería\, diseño y gestión en una misma plataforma. \n✔️ Integración completa con SOLIDWORKS\nLleva tus proyectos de diseño a un entorno colaborativo sin perder continuidad.
URL:https://solidservicios.com/cal/taller-gestiona-tus-proyectos-de-ingenieria-con-agile-scrum-en-3dexperience/
CATEGORIES:Taller
ATTACH;FMTTYPE=image/png:https://solidservicios.com/wp-content/uploads/Agile-Scrum-en-3DEXPERIENCE.png
ORGANIZER;CN="SOLIDSERVICIOS":MAILTO:info@solidservicios.com
END:VEVENT
END:VCALENDAR