BEGIN:VCALENDAR
VERSION:2.0
PRODID:-//SolidServicios - ECPv6.3.3.1//NONSGML v1.0//EN
CALSCALE:GREGORIAN
METHOD:PUBLISH
X-ORIGINAL-URL:https://solidservicios.com
X-WR-CALDESC:Eventos para SolidServicios
REFRESH-INTERVAL;VALUE=DURATION:PT1H
X-Robots-Tag:noindex
X-PUBLISHED-TTL:PT1H
BEGIN:VTIMEZONE
TZID:UTC
BEGIN:STANDARD
TZOFFSETFROM:+0000
TZOFFSETTO:+0000
TZNAME:UTC
DTSTART:20210101T000000
END:STANDARD
END:VTIMEZONE
BEGIN:VEVENT
DTSTART;TZID=UTC:20210507T160000
DTEND;TZID=UTC:20210507T170000
DTSTAMP:20260425T145817
CREATED:20210127T034134Z
LAST-MODIFIED:20210127T034823Z
UID:21790-1620403200-1620406800@solidservicios.com
SUMMARY:TALLER | Acelere el proceso de documentación con DimXpert
DESCRIPTION:  \nImpartido por: \nIng. Noe Nicolas Núñez Aguilar \nIngeniero de Aplicaciones Elite \nFecha y Hora: \nViernes 7 de Mayo de 2021 | 4:00 pm a 5:00 pm \nDescripción:  \nCon la herramienta de Routing podemos crear sistemas hidráulicos\, neumáticos\, eléctricos entre otros de manera rápida y sencilla. Complementa la biblioteca con componentes personalizados en unos cuantos pasos de manera sencilla. Obtén una lista de materiales completa y sincronizada en cuestión de minutos. . \n  \nBeneficios: \n• Desarrolle de manera rápida sistemas de tuberías. \n• Optimice los espacios de rutas. \n• Personalizados de manera sencilla la biblioteca. \n• Crea una lista de materiales en cuestión de minutos. \n ¡REGISTRARSE AHORA!
URL:https://solidservicios.com/cal/taller-cree-sistemas-hidraulicos-electricos-en-cuestion-de-minutos-con-routing/
ORGANIZER;CN="SOLIDSERVICIOS":MAILTO:info@solidservicios.com
END:VEVENT
BEGIN:VEVENT
DTSTART;TZID=UTC:20210514T160000
DTEND;TZID=UTC:20210514T170000
DTSTAMP:20260425T145817
CREATED:20210126T063135Z
LAST-MODIFIED:20210126T063252Z
UID:21738-1621008000-1621011600@solidservicios.com
SUMMARY:WEBINAR | ¡Prediga defectos de fabricación en diseños de piezas de plástico!
DESCRIPTION:  \nImpartido por: \nEric Daniel Luna Gómez \nIngeniero de Aplicaciones Experto \nFecha y Hora: \nViernes 14 de Mayo de 2021 | 4:00 pm a 5:00 pm \n  \nDescripción:  \nAnalice el modo en que el plástico fundido fluye durante el proceso de moldeado por inyección para predecir los defectos relacionados con la fabricación de modo que pueda evaluar rápidamente posibles defectos de fabricación. \n  \nBeneficios: \n• Mejore la calidad de sus productos. \n• Disminuya el tiempo de comercialización de sus piezas. \n• Elimine costosas rectificaciones de sus modelos.  \n• Asegure la correcta fabricación de sus piezas.  \n  \n ¡REGISTRARSE AHORA! \n 
URL:https://solidservicios.com/cal/webinar-prediga-defectos-de-fabricacion-en-disenos-de-piezas-de-plastico/
ORGANIZER;CN="SOLIDSERVICIOS":MAILTO:info@solidservicios.com
END:VEVENT
BEGIN:VEVENT
DTSTART;TZID=UTC:20210521T160000
DTEND;TZID=UTC:20210521T170000
DTSTAMP:20260425T145817
CREATED:20210127T045402Z
LAST-MODIFIED:20210127T050145Z
UID:21816-1621612800-1621616400@solidservicios.com
SUMMARY:TALLER | Acelere el proceso de documentación con DimXpert
DESCRIPTION:  \nImpartido por: \nIng. Luis Daniel Campos. \nIngeniero de Aplicaciones Elite \nFecha y Hora: \nViernes 21 de Mayo de 2021 | 4:00 pm a 5:00 pm \nDescripción:  \nDimXpert es parte de la funcionalidad SWIFT (Tecnología de funciones inteligentes de SolidWorks)\, permite generar la información para la manufactura de manera rápida y sencilla\, permitiendo agregar tolerancias geométricas o de intervalo +/- basado en el estándar ASME Y14.41-2003. \n  \nBeneficios: \n• Agilice el proceso de documentación de sus proyectos. \n• Obtenga una representación en 3D de toda la información para la manufactura. \n• Ahorre dinero evitando errores por interpretación en planos. \n• Mejore la comunicación entre el área de producción y diseño permitiendo así eliminar el desperdicio. \n  \n ¡REGISTRARSE AHORA!
URL:https://solidservicios.com/cal/taller-acelere-el-proceso-de-documentacion-con-dimxpert/
ORGANIZER;CN="SOLIDSERVICIOS":MAILTO:info@solidservicios.com
END:VEVENT
BEGIN:VEVENT
DTSTART;TZID=UTC:20210528T160000
DTEND;TZID=UTC:20210528T170000
DTSTAMP:20260425T145817
CREATED:20210126T063721Z
LAST-MODIFIED:20210126T063721Z
UID:21740-1622217600-1622221200@solidservicios.com
SUMMARY:WEBINAR | Analice el proceso de enfriamiento de la inyección de piezas plásticas
DESCRIPTION:  \nImpartido por: \nIng. Noe Nicolas Núñez Aguilar \nIngeniero de Aplicaciones Elite \nFecha y Hora: \nViernes 28 de Mayo de 2021 | 4:00 pm a 5:00 pm \n  \nDescripción:  \nCon SOLIDWORKS PLASTICS Premium analice el proceso de enfriamiento de las piezas por inyección de manera sencilla. Compruebe la temperatura de insertos\, molde\, enfriadores y pieza con un flujo simple\, lo que nos permitirá tomar decisiones críticas para evitar defectos en nuestros productos \n  \nBeneficios: \n• Valide puntos críticos del proceso de inyección. \n• Optimice elementos clave del molde. \n• Verifique las características de funcionamiento.  \n• Disminuya costos por defectos de fabricación.  \n  \n ¡REGISTRARSE AHORA! \n 
URL:https://solidservicios.com/cal/webinar-analice-el-proceso-de-enfriamiento-de-la-inyeccion-de-piezas-plasticas/
ORGANIZER;CN="SOLIDSERVICIOS":MAILTO:info@solidservicios.com
END:VEVENT
END:VCALENDAR