BEGIN:VCALENDAR
VERSION:2.0
PRODID:-//SolidServicios - ECPv6.3.3.1//NONSGML v1.0//EN
CALSCALE:GREGORIAN
METHOD:PUBLISH
X-WR-CALNAME:SolidServicios
X-ORIGINAL-URL:https://solidservicios.com
X-WR-CALDESC:Eventos para SolidServicios
REFRESH-INTERVAL;VALUE=DURATION:PT1H
X-Robots-Tag:noindex
X-PUBLISHED-TTL:PT1H
BEGIN:VTIMEZONE
TZID:UTC
BEGIN:STANDARD
TZOFFSETFROM:+0000
TZOFFSETTO:+0000
TZNAME:UTC
DTSTART:20210101T000000
END:STANDARD
END:VTIMEZONE
BEGIN:VEVENT
DTSTART;TZID=UTC:20210702T163000
DTEND;TZID=UTC:20210702T170000
DTSTAMP:20260425T115243
CREATED:20210127T041512Z
LAST-MODIFIED:20210127T044905Z
UID:21801-1625243400-1625245200@solidservicios.com
SUMMARY:TALLER | Optimice proyectos de gran escala con sistemas estructurales
DESCRIPTION:  \nImpartido por: \nIng. Alejandro Zepeda Suárez \nIngeniero de Aplicaciones CAD/CAM Experto \nFecha y Hora: \nViernes 2 de Julio de 2021 | 4:00 pm a 5:00 pm \nDescripción:  \nOptimice y organice de manera más organizada sus proyectos estructurales utilizando “Sistemas estructurales” de SOLIDWORKS\, herramienta que le permitirá utilizar de manera más adecuada la información preliminar y organizarla\, todo esto dentro del entorno de SOLIDWORKS CAD. \n  \nBeneficios: \n• Menor perdida en materia prima. \n• Generación automática de lista de cortes. \n• Menor tiempo en diseño. \n• Mayor calidad en diseños finales. \n ¡REGISTRARSE AHORA!
URL:https://solidservicios.com/cal/taller-optimice-proyectos-de-gran-escala-con-sistemas-estructurales/
ORGANIZER;CN="SOLIDSERVICIOS":MAILTO:info@solidservicios.com
END:VEVENT
BEGIN:VEVENT
DTSTART;TZID=UTC:20210709T160000
DTEND;TZID=UTC:20210709T170000
DTSTAMP:20260425T115243
CREATED:20210126T080342Z
LAST-MODIFIED:20210128T013125Z
UID:21746-1625846400-1625850000@solidservicios.com
SUMMARY:WEBINAR | Agilice la salida al mercado de sus productos
DESCRIPTION:  \nImpartido por: \nIng. Luis Daniel Campos \nIngeniero de Aplicaciones Elite \nFecha y Hora: \nViernes 9 de Junio de 2021 | 4:00 pm a 5:00 pm \n  \nDescripción:  \nSOLIDWORKS FLOW SIMULATION es una herramienta de dinámica de fluidos que permite evaluar el comportamiento de un fluido a través de un modelo\, de esta manera poder evaluar el desempeño de sus diseños. A si mismo con SOLIDWORKS SIMULATION evaluar los efectos estructurales a raíz de la carga de los fluidos.\n \n  \nBeneficios: \n• Visualice el comportamiento de sus diseños para tomar decisiones informadas y a tiempo.. \n• Disminuya los costos por cuestiones de garantía de sus productos. \n• Ahorre dinero evitando el sobredimensionamiento de sus proyectos. \n• Realice simulaciones más robustas y precisas utilizando la conectividad entre SOLIDWORKS FLOW Y SOLIDWORKS SIMULATION. \n  \n ¡REGISTRARSE AHORA! \n 
URL:https://solidservicios.com/cal/webinar-agilice-la-salida-al-mercado-de-sus-productos/
ORGANIZER;CN="SOLIDSERVICIOS":MAILTO:info@solidservicios.com
END:VEVENT
BEGIN:VEVENT
DTSTART;TZID=UTC:20210716T160000
DTEND;TZID=UTC:20210716T170000
DTSTAMP:20260425T115243
CREATED:20210127T041937Z
LAST-MODIFIED:20210127T041937Z
UID:21803-1626451200-1626454800@solidservicios.com
SUMMARY:TALLER | Acelere el diseño de sus productos utilizando componentes inteligentes
DESCRIPTION:  \nImpartido por: \nIng. Eric Daniel Luna Gómez \nIngeniero de Aplicaciones Elite \nFecha y Hora: \nViernes 16 de Julio de 2021 | 4:00 pm a 5:00 pm \nDescripción:  \nReutilice componentes y operaciones asociadas a éstos mediante el uso de las herramientas de SOLIDWORKS para agilizar el desarrollo de sus productos y mejorando la calidad de los mismos.  \n  \nBeneficios: \n• Explore las herramientas que le permitirán crear piezas inteligentes.  \n• Acelere el desarrollo de sus diseños. \n• Mejore la calidad de sus productos. \n• Reduzca sus tiempos de desarrollo.  \n ¡REGISTRARSE AHORA!
URL:https://solidservicios.com/cal/taller-acelere-el-diseno-de-sus-productos-utilizando-componentes-inteligentes/
ORGANIZER;CN="SOLIDSERVICIOS":MAILTO:info@solidservicios.com
END:VEVENT
BEGIN:VEVENT
DTSTART;TZID=UTC:20210723T080000
DTEND;TZID=UTC:20210723T170000
DTSTAMP:20260425T115243
CREATED:20210126T085012Z
LAST-MODIFIED:20210126T085034Z
UID:21748-1627027200-1627059600@solidservicios.com
SUMMARY:WEBINAR | Mayor flexibilidad de diseño en la nube con 3D SheetMetal Creator y 3DEXPERIENCE
DESCRIPTION:  \nImpartido por: \nIng. Noe Nicolas Núñez Aguilar \nIngeniero de Aplicaciones Elite \nFecha y Hora: \nViernes 23 de Julio de 2021 | 4:00 pm a 5:00 pm \n  \nDescripción:  \nDesarrolle piezas de chapa metálica en cualquier parte con la flexibilidad del diseño en la nube con 3DEXPERIENCE\, desde cualquier dispositivo solo con acceder al navegador web. Conozca las herramientas para el diseño de chapa metálica basadas en la nube y que pueden ser usadas en SOLIDWORKS.\n \n  \nBeneficios: \n• Mayor flexibilidad en el diseño. \n• Desarrolle sus diseños desde cualquier parte. \n• Herramientas de diseño disponibles en la nube. \n  \n ¡REGISTRARSE AHORA! \n 
URL:https://solidservicios.com/cal/webinar-mayor-flexibilidad-de-diseno-en-la-nube-con-3d-sheetmetal-creator-y-3dexperience/
ORGANIZER;CN="SOLIDSERVICIOS":MAILTO:info@solidservicios.com
END:VEVENT
BEGIN:VEVENT
DTSTART;TZID=UTC:20210730T160000
DTEND;TZID=UTC:20210730T170000
DTSTAMP:20260425T115243
CREATED:20210127T042417Z
LAST-MODIFIED:20210127T042417Z
UID:21805-1627660800-1627664400@solidservicios.com
SUMMARY:TALLER | Acelere la introducción de propiedades personalizadas con SOLIDWORKS
DESCRIPTION:  \nImpartido por: \nIng. Eric Daniel Luna Gómez \nIngeniero de Aplicaciones Elite \nFecha y Hora: \nViernes 30 de Julio de 2021 | 4:00 pm a 5:00 pm \nDescripción:  \nAprenda a utilizar la herramienta SOLIDWORKS Property Tab Builder para crear una interfaz personalizada que le permita introducir automáticamente propiedades en sus archivos de SOLIDWORKS. \n  \nBeneficios: \n• Administre la implementación de propiedades a sus archivos. \n• Mejore la creación de estándares a través de la generación de una lista de las propiedades. \n• Acelere el ingreso de información y vincule dicha información entre sus archivos. \n ¡REGISTRARSE AHORA!
URL:https://solidservicios.com/cal/taller-acelere-la-introduccion-de-propiedades-personalizadas-con-solidworks/
ORGANIZER;CN="SOLIDSERVICIOS":MAILTO:info@solidservicios.com
END:VEVENT
END:VCALENDAR