BEGIN:VCALENDAR
VERSION:2.0
PRODID:-//SolidServicios - ECPv6.3.3.1//NONSGML v1.0//EN
CALSCALE:GREGORIAN
METHOD:PUBLISH
X-ORIGINAL-URL:https://solidservicios.com
X-WR-CALDESC:Eventos para SolidServicios
REFRESH-INTERVAL;VALUE=DURATION:PT1H
X-Robots-Tag:noindex
X-PUBLISHED-TTL:PT1H
BEGIN:VTIMEZONE
TZID:UTC
BEGIN:STANDARD
TZOFFSETFROM:+0000
TZOFFSETTO:+0000
TZNAME:UTC
DTSTART:20210101T000000
END:STANDARD
END:VTIMEZONE
BEGIN:VEVENT
DTSTART;TZID=UTC:20211001T160000
DTEND;TZID=UTC:20211001T170000
DTSTAMP:20260425T065510
CREATED:20210126T093233Z
LAST-MODIFIED:20210730T014717Z
UID:21760-1633104000-1633107600@solidservicios.com
SUMMARY:WEBINAR | Administre de forma segura sus datos
DESCRIPTION:  \nImpartido por: \nIng. Miguel Antonio Morales Tovar \nIngeniero de Aplicaciones Experto \nFecha y Hora: \nViernes 1 de Octubre de 2021 | 4:00 pm a 5:00 pm \n  \nDescripción:  \nSOLIDWORKS PDM Professional es una solución de software ideal para la gestión de documentos en la empresa\, que garantiza que toda la información quede almacenada de forma segura\, sea accesible y totalmente auditable. Esta tecnología fue creada con el fin de que todos los usuarios autorizados puedan acceder a sus documentos rápidamente y en el momento oportuno\, además de poder controlar las versiones y las revisiones de cada uno de los archivos. Además\, toda la información puede ser accedida desde una tablet\, smartphone o computadora personal\, desde internet. \n  \nBeneficios: \n• Mantener un estricto control de toda su documentación.  \n• Manejar la trazabilidad y auditoría de cada uno de los documentos. \n• Acceso seguro a la información con base en estrictos permisos de usuario. \n• Alta productividad de los usuarios al trabajar con archivos de forma local.  \n• Esquema de revisión personalizado basado en un flujo de trabajo  \n• Integración directa con SOLIDWORKS.  \n• Acceso desde Internet.  \n ¡REGISTRARSE AHORA!
URL:https://solidservicios.com/cal/webinar-administre-de-forma-segura-sus-datos/
ORGANIZER;CN="SOLIDSERVICIOS":MAILTO:info@solidservicios.com
END:VEVENT
BEGIN:VEVENT
DTSTART;TZID=UTC:20211005T080000
DTEND;TZID=UTC:20211005T170000
DTSTAMP:20260425T065510
CREATED:20210904T035236Z
LAST-MODIFIED:20210904T035402Z
UID:23264-1633420800-1633453200@solidservicios.com
SUMMARY:Evento de Lanzamiento SOLIDWORKS 2022
DESCRIPTION:¡SOLIDWORKS 2022 YA ESTA AQUÍ!\nRESERVA LA FECHA\n\nRegístrese al evento de lanzamiento de SOLIDWORKS 2022\, conoce las nuevas mejoras en los flujos de trabajo que utilizas a diario en las tareas de diseño\, documentación\, gestión de datos y validación\, que le permitirán trabajar de manera más eficaz.\n» Trabaja más rápido. \n» Trabaja de manera más eficaz \n» Colabora en equipo. \n» Espere sorpresas y premios durante nuestro evento. \n \n » ¡RESERVE AHORA! «
URL:https://solidservicios.com/cal/evento-de-lanzamiento-solidworks-2022-2/
ATTACH;FMTTYPE=image/png:https://solidservicios.com/wp-content/uploads/solidworks-2022-plata-1.png
ORGANIZER;CN="SOLIDSERVICIOS":MAILTO:info@solidservicios.com
END:VEVENT
BEGIN:VEVENT
DTSTART;TZID=UTC:20211012T080000
DTEND;TZID=UTC:20211012T170000
DTSTAMP:20260425T065510
CREATED:20210904T035257Z
LAST-MODIFIED:20210904T035416Z
UID:23265-1634025600-1634058000@solidservicios.com
SUMMARY:Evento de Lanzamiento SOLIDWORKS 2022
DESCRIPTION:¡SOLIDWORKS 2022 YA ESTA AQUÍ!\nRESERVA LA FECHA\n\nRegístrese al evento de lanzamiento de SOLIDWORKS 2022\, conoce las nuevas mejoras en los flujos de trabajo que utilizas a diario en las tareas de diseño\, documentación\, gestión de datos y validación\, que le permitirán trabajar de manera más eficaz.\n» Trabaja más rápido. \n» Trabaja de manera más eficaz \n» Colabora en equipo. \n» Espere sorpresas y premios durante nuestro evento. \n \n » ¡RESERVE AHORA! «
URL:https://solidservicios.com/cal/evento-de-lanzamiento-solidworks-2022-3/
ATTACH;FMTTYPE=image/png:https://solidservicios.com/wp-content/uploads/solidworks-2022-plata-1.png
END:VEVENT
BEGIN:VEVENT
DTSTART;TZID=UTC:20211013T160000
DTEND;TZID=UTC:20211013T170000
DTSTAMP:20260425T065510
CREATED:20211008T230053Z
LAST-MODIFIED:20211008T230053Z
UID:23493-1634140800-1634144400@solidservicios.com
SUMMARY:TALLER | ¡Explore los beneficios de diseñar en la nube!
DESCRIPTION:  \nImpartido por: \n¡Explore los beneficios de diseñar en la nube! \nIngeniero de Aplicaciones Elite \nFecha y Hora: \nMiércoles 13 de Octubre de 2021 | 4:00 pm a 5:00 pm \nDescripción:  \nResuelva sus retos de diseño con una solución de modelado 3D basada en la nube que se ejecuta en la plataforma 3DEXPERIENCE desde cualquier buscador. Cree\, revise y evalúe de forma fácil y rápida modelos 3D conceptuales y detallados con 3D Creator (que incluye la aplicación xDesign) así como formas orgánicas y ergonómicas generadas rápida y fácilmente con 3DShape. \n  \nBeneficios: \n• Desarrolle productos dentro de la nube aprovechando la interconectividad que esta tecnología ofrece a su equipo. \n• Disminuya el tiempo de desarrollo gracias a la facilidad de uso de las herramientas del rol de 3D Creator y 3D Sculptor. \n• Comparta fácilmente conceptos\, pensamientos y comentarios de diseño en etapas iniciales. Permitiendo tomar decisiones con la información en tiempo y en forma.. \n• DDisminuya el tiempo de desarrollo gracias a la facilidad de uso de las herramientas del rol de 3D Creator y 3D Sculptor. \n  \n ¡REGISTRARSE AHORA!
URL:https://solidservicios.com/cal/taller-explore-los-beneficios-de-disenar-en-la-nube/
ORGANIZER;CN="SOLIDSERVICIOS":MAILTO:info@solidservicios.com
END:VEVENT
BEGIN:VEVENT
DTSTART;TZID=UTC:20211015T160000
DTEND;TZID=UTC:20211015T170000
DTSTAMP:20260425T065510
CREATED:20211015T042005Z
LAST-MODIFIED:20211015T224836Z
UID:23514-1634313600-1634317200@solidservicios.com
SUMMARY:WEBINAR | SOLIDWORKS SIMULATION
DESCRIPTION:  \nImpartido por: \nIng. Noe Núñez Aguilar \nIngeniero de Aplicaciones Elite \nFecha y Hora: \nViernes 15 de Octubre de 2021 | 4:00 pm a 5:00 pm \n  \nDescripción:  \nConozca como las herramientas de SOLIDWORKS Simulación le permite identificar zonas críticas de funcionamiento para sus productos. Planifique mantenimientos con estudios de fatiga y conozca el daño de estos con el paso del tiempo. Permitiendo conocer características críticas de nuestros componentes. \nBeneficios: \n• Optimice sus productos. \n• Identifique elementos críticos. \n• Reduzca costos de mantenimiento. \n• Simplifique el proceso de desarrollo.  \n ¡REGISTRARSE AHORA!
URL:https://solidservicios.com/cal/webinar-solidworks-simulation/
ORGANIZER;CN="SOLIDSERVICIOS":MAILTO:info@solidservicios.com
END:VEVENT
BEGIN:VEVENT
DTSTART;TZID=UTC:20211022T040000
DTEND;TZID=UTC:20211022T170000
DTSTAMP:20260425T065510
CREATED:20211015T043519Z
LAST-MODIFIED:20211015T043519Z
UID:23517-1634875200-1634922000@solidservicios.com
SUMMARY:TALLER | ¡Explore los beneficios de diseñar en la nube! PARTE 2
DESCRIPTION:Impartido por: \nIng. Luis Daniel Campos \nIngeniero de Aplicaciones Elite \nFecha y Hora: \nViernes 22 de Octubre de 2021 | 4:00 pm a 5:00 pm \nDescripción:  \nResuelva sus retos de diseño con una solución de modelado 3D basada en la nube que se ejecuta en la plataforma 3DEXPERIENCE desde cualquier buscador. Cree\, revise y evalúe de forma fácil y rápida modelos 3D Structure Creator que proporciona herramientas de diseño de estructuras potentes e intuitivas así como sus retos de modelado de elementos de chapa metaliza con las aplicaciones del rol 3D Sheet Metal Creator. \nBeneficios: \n•Desarrolle productos dentro de la nube aprovechando la interconectividad que esta tecnología ofrece a su equipo. \n• Disminuya el tiempo de desarrollo gracias a la facilidad de uso de las herramientas del rol de 3D structure creator y 3D Sheet Metal Creator. \n• Trabaje en un entorno colaborativo en el mismo modelo con su equipo. \n• Acceda a sus diseños desde cualquier dispositivo en cualquier lugar. \n•  Reduzca los costos de infraestructura\, los gastos generales de TI\, el mantenimiento del software y la complejidad mediante el uso de tecnología segura en la nube. interconectividad que esta tecnología ofrece a su equipo. \n ¡REGISTRARSE AHORA!
URL:https://solidservicios.com/cal/taller-explore-los-beneficios-de-disenar-en-la-nube-parte-2/
ORGANIZER;CN="SOLIDSERVICIOS":MAILTO:info@solidservicios.com
END:VEVENT
BEGIN:VEVENT
DTSTART;TZID=UTC:20211029T160000
DTEND;TZID=UTC:20211029T170000
DTSTAMP:20260425T065510
CREATED:20211015T224410Z
LAST-MODIFIED:20211016T034655Z
UID:23521-1635523200-1635526800@solidservicios.com
SUMMARY:WEBINAR | ¡Ahorre tiempo y dinero en el desarrollo de sus diseños eléctricos!
DESCRIPTION:  \nImpartido por: \nIng. Eric Daniel Luna Gómez\nIngeniero de Aplicaciones Elite \nFecha y Hora: \nViernes 29 de Octubre de 2021 | 4:00 pm a 5:00 pm \n  \nDescripción:  \nTrabaje simultáneamente los aspectos eléctricos y mecánicos de sus proyectos con SOLIDWORKS Electrical Professional. Automatice sus diseños esquemáticos y acelere el tiempo de desarrollo de sus respectivos modelos 3D. \nBeneficios: \n• Mejore la comunicación entre sus áreas de diseño mecánico y eléctrico. \n• Reduzca el uso de tareas repetitivas. \n• Evite gastos inesperados.\n \n• Simplifique el proceso de desarrollo.  \n ¡REGISTRARSE AHORA!
URL:https://solidservicios.com/cal/webinar-ahorre-tiempo-y-dinero-en-el-desarrollo-de-sus-disenos-electricos/
ORGANIZER;CN="SOLIDSERVICIOS":MAILTO:info@solidservicios.com
END:VEVENT
END:VCALENDAR