BEGIN:VCALENDAR
VERSION:2.0
PRODID:-//SolidServicios - ECPv6.3.3.1//NONSGML v1.0//EN
CALSCALE:GREGORIAN
METHOD:PUBLISH
X-ORIGINAL-URL:https://solidservicios.com
X-WR-CALDESC:Eventos para SolidServicios
REFRESH-INTERVAL;VALUE=DURATION:PT1H
X-Robots-Tag:noindex
X-PUBLISHED-TTL:PT1H
BEGIN:VTIMEZONE
TZID:UTC
BEGIN:STANDARD
TZOFFSETFROM:+0000
TZOFFSETTO:+0000
TZNAME:UTC
DTSTART:20210101T000000
END:STANDARD
END:VTIMEZONE
BEGIN:VEVENT
DTSTART;TZID=UTC:20211203T160000
DTEND;TZID=UTC:20211203T170000
DTSTAMP:20260423T034324
CREATED:20211019T002537Z
LAST-MODIFIED:20211123T054646Z
UID:23553-1638547200-1638550800@solidservicios.com
SUMMARY:TALLER | ¡Determine la resistencia de sus piezas con SIMULATIONXpress!
DESCRIPTION:  \nImpartido por: \nIng. Eric Daniel Luna Gómez\nIngeniero de Aplicaciones Elite \nFecha y Hora: \nViernes 3 de Diciembre de 2021 | 4:00 pm a 5:00 pm \n  \nDescripción:  \nAnalice si sus piezas soportarán las cargas que recibirán en condiciones reales con SOLIDWORKS SimulationXpress es una herramienta de análisis preliminar de tensiones y desplazamientos disponible para todos los usuarios de SOLIDWORKS. \nGenera una experiencia de usuario para sus productos mucho más amigable y fácil de entender con imágenes generadas de los archivos de SOLIDWORKS  \nBeneficios: \n• Incremente la calidad de sus productos. \n• Reduzca el número de prototipos y ahorre dinero. \n• Asegure la funcionalidad de sus proyectos. \n• Acelere la salida al mercado de sus productos. \n  \n ¡REGISTRARSE AHORA!
URL:https://solidservicios.com/cal/23553/
ORGANIZER;CN="SOLIDSERVICIOS":MAILTO:info@solidservicios.com
END:VEVENT
BEGIN:VEVENT
DTSTART;TZID=UTC:20211217T160000
DTEND;TZID=UTC:20211217T170000
DTSTAMP:20260423T034324
CREATED:20211019T003744Z
LAST-MODIFIED:20211025T195234Z
UID:23557-1639756800-1639760400@solidservicios.com
SUMMARY:TALLER | Diseña sistemas de estructuras complejas de manera rápida y sencilla 
DESCRIPTION:  \nImpartido por: \nIng. Noe Núñez Aguilar\nIngeniero de Aplicaciones Elite \nFecha y Hora: \nViernes 17 de Diciembre de 2021 | 4:00 pm a 5:00 pm \n  \nDescripción:  \nCon las herramientas de Sistemas Estructurales cree estructuras complejas utilizando planos\, ejes y corquis de manera sencilla. Los tratamientos de esquina e intersecciones pueden ser generados de manera más simples y rápidas. Conozca algunas de estas herramientas con las cuales podrá diseñar de manera más rápida un sistema complejo. \nBeneficios: \n• Agilice el proceso de diseño de estructuras. \n• Ahorre tiempo en creación de tratamientos de esquina. \n• Desarrolle de manera más sencilla cualquier tipo de estructura.\n \n• Optimice el diseño con nuevas herramientas. \n  \n ¡REGISTRARSE AHORA!
URL:https://solidservicios.com/cal/taller-disena-sistemas-de-estructuras-complejas-de-manera-rapida-y-sencilla/
ORGANIZER;CN="SOLIDSERVICIOS":MAILTO:info@solidservicios.com
END:VEVENT
BEGIN:VEVENT
DTSTART;TZID=UTC:20211223T160000
DTEND;TZID=UTC:20211223T170000
DTSTAMP:20260423T034324
CREATED:20211016T032601Z
LAST-MODIFIED:20211208T054856Z
UID:23536-1640275200-1640278800@solidservicios.com
SUMMARY:Webinar | ¡Reduzca hasta el 70% el tiempo de sus maquinados con IMachining!
DESCRIPTION:Impartido por: \nIng. Jose Alberto robles Diaz\nIngeniero de Aplicaciones Elite \nFecha y Hora: \nJueves 23 de Diciembre de 2021 | 4:00 pm a 5:00 pm \n  \nDescripción:  \nEl Asistente de Tecnología iMachining proporciona avances y velocidades óptimas para cualquier material y máquina CNC asegurando el éxito al primer intento. Mecaniza en CNC más rápido\, incluso con herramientas más pequeñas y materiales más duros. El conocimiento y la sabiduría de cientos de expertos en CAM y CNC en la palma de tu mano con el Asistente de trayectorias e iMachining.  \nGenera contenido más detallado y logrando evitar errores en al fabricación por falta de interpretación. \nBeneficios: \n• Menor coste en herramientas de corte. \n• Optimizar tiempos de maquinado. \n• Aprovechamiento óptimo de materia prima. \n• Salida de proyectos de maquinado mas eficiente.. \n  \n ¡REGISTRARSE AHORA!
URL:https://solidservicios.com/cal/webinar-reduzca-hasta-el-70-el-tiempo-de-sus-maquinados-con-imachining/
ORGANIZER;CN="SOLIDSERVICIOS":MAILTO:info@solidservicios.com
END:VEVENT
BEGIN:VEVENT
DTSTART;TZID=UTC:20211230T160000
DTEND;TZID=UTC:20211230T170000
DTSTAMP:20260423T034324
CREATED:20211019T004213Z
LAST-MODIFIED:20211208T054949Z
UID:23559-1640880000-1640883600@solidservicios.com
SUMMARY:TALLER | ¡Mejore la calidad de sus productos con FloXpress!
DESCRIPTION:Impartido por: \nIng. Eric Daniel Luna Gómez\nIngeniero de Aplicaciones Elite \nFecha y Hora: \nJueves 30 de Diciembre de 2021 | 4:00 pm a 5:00 pm \n  \nDescripción:  \nSOLIDWORKS FloXpress es una aplicación de dinámica de fluidos computacional disponible para todos los usuarios de SOLIDWORKS y que les permitirá calcula el campo de velocidad para determinar el flujo que habrá en sus piezas o ensambles\, y puedan encontrar áreas problemáticas en sus diseños. \nBeneficios: \n• Consolide la funcionalidad de sus proyectos. \n• Reduzca el número de prototipos y ahorre dinero. \n• Asegure la calidad de sus productos.\n \n• Optimice el diseño con nuevas herramientas. \n  \n ¡REGISTRARSE AHORA!
URL:https://solidservicios.com/cal/taller-mejore-la-calidad-de-sus-productos-con-floxpress/
ORGANIZER;CN="SOLIDSERVICIOS":MAILTO:info@solidservicios.com
END:VEVENT
END:VCALENDAR