BEGIN:VCALENDAR
VERSION:2.0
PRODID:-//SolidServicios - ECPv6.3.3.1//NONSGML v1.0//EN
CALSCALE:GREGORIAN
METHOD:PUBLISH
X-WR-CALNAME:SolidServicios
X-ORIGINAL-URL:https://solidservicios.com
X-WR-CALDESC:Eventos para SolidServicios
REFRESH-INTERVAL;VALUE=DURATION:PT1H
X-Robots-Tag:noindex
X-PUBLISHED-TTL:PT1H
BEGIN:VTIMEZONE
TZID:UTC
BEGIN:STANDARD
TZOFFSETFROM:+0000
TZOFFSETTO:+0000
TZNAME:UTC
DTSTART:20220101T000000
END:STANDARD
END:VTIMEZONE
BEGIN:VEVENT
DTSTART;TZID=UTC:20220107T160000
DTEND;TZID=UTC:20220107T170000
DTSTAMP:20260423T003030
CREATED:20211016T033944Z
LAST-MODIFIED:20211204T054645Z
UID:23539-1641571200-1641574800@solidservicios.com
SUMMARY:Webinar | Cree contenido dinámico y novedoso de sus productos
DESCRIPTION:Impartido por: \nIng. Noe Núñez Aguilar\nIngeniero de Aplicaciones Elite \nFecha y Hora: \nViernes 7 de Enero de 2021 | 4:00 pm a 5:00 pm \n  \nDescripción:  \nConozca como generar imagnes y contenido interactivo para sus productos. SOLIDWORKS Composer ofrece herramientas con las cuales podrá crear contenido de alta calidad para manuales de ensamblajes\, publicaciones para páginas web entre otras opciones. \nGenera una experiencia de usuario para sus productos mucho más amigable y fácil de entender con imágenes generadas de los archivos de SOLIDWORKS  \nBeneficios: \n• Cree contenido interactivo. \n• Ahorre tiempo de publicación de contenido. \n• Obtenga imágenes de alta calidad. \n• Muestre el potencial de sus productos con publicaciones interactivas. \n  \n ¡REGISTRARSE AHORA!
URL:https://solidservicios.com/cal/webinar-cree-contenido-dinamico-y-novedoso-de-sus-productos/
END:VEVENT
BEGIN:VEVENT
DTSTART;TZID=UTC:20220114T160000
DTEND;TZID=UTC:20220114T170000
DTSTAMP:20260423T003030
CREATED:20211027T204624Z
LAST-MODIFIED:20211204T054707Z
UID:23598-1642176000-1642179600@solidservicios.com
SUMMARY:Webinar | Conozca las nuevas capacidades que 3DEXPERIENCE ofrece en la nube
DESCRIPTION:Impartido por: \nIng. Noe Núñez Aguilar\nIngeniero de Aplicaciones Elite \nFecha y Hora: \nViernes 14  de Enero de 2021 | 4:00 pm a 5:00 pm \n  \nDescripción:  \nUnifique toda su organización\, desde el diseño y la fabricación hasta el marketing y el servicio\, en un entorno colaborativo de desarrollo de productos.\nEl portafolio de soluciones en la nube de 3DEXPERIENCE WORKS reúne a todas sus partes interesadas clave en una única plataforma colaborativa\, lo que le permite pasar sin problemas desde la ideación hasta la entrega para el desarrollo continuo. Conectar a las personas\, las aplicaciones y los datos en tiempo real de todos los aspectos de su negocio le ayuda a mejorar la ejecución\, aumentar la productividad y acelerar la innovación. Elija un puesto de trabajo y vea qué soluciones diseñadas específicamente están disponibles para usted.\n \nBeneficios: \n• Obtenga mayor flexibilidad en el diseño. \n• Gestione la información sin complejidad. \n• Comunique la información de menara eficaz. \n• Expanda las capacidades de desarrollo\, \n  \n ¡REGISTRARSE AHORA!
URL:https://solidservicios.com/cal/webinar-conozca-las-nuevas-capacidades-que-3dexperience-ofrece-en-la-nube/
ORGANIZER;CN="SOLIDSERVICIOS":MAILTO:info@solidservicios.com
END:VEVENT
BEGIN:VEVENT
DTSTART;TZID=UTC:20220121T163000
DTEND;TZID=UTC:20220121T170000
DTSTAMP:20260423T003030
CREATED:20220113T010905Z
LAST-MODIFIED:20220119T044349Z
UID:23912-1642782600-1642784400@solidservicios.com
SUMMARY:TALLER - Presente y futuro de la manufactura. Diseño de celdas robóticas
DESCRIPTION:Impartido por: \nIng. Noe Núñez Aguilar\nIngeniero de Aplicaciones Elite \nFecha y Hora: \nViernes 21  de Enero de 2022 | 4:00 pm a 5:00 pm \nDescripción: \nConoce herramientas con las cuales podrás realizar el diseño de celdas robóticas de manera más rápida y sencillas con SOLIDWORKS. Aprende como agregar a la biblioteca componentes y elementos para el diseño de celdas robóticas y como optimizar sus modelos de SOLIDWORKS. \nBeneficios: \n• Agiliza el proceso de diseño. \n• Optimiza tus diseños \n• Personaliza tu biblioteca de manera sencilla \n• Reduce el proceso de desarrollo \n  \n  \n ¡REGISTRARSE AHORA!
URL:https://solidservicios.com/cal/taller-presente-y-futuro-de-la-manufactura-diseno-de-celdas-roboticas/
ORGANIZER;CN="SOLIDSERVICIOS":MAILTO:info@solidservicios.com
END:VEVENT
BEGIN:VEVENT
DTSTART;TZID=UTC:20220128T160000
DTEND;TZID=UTC:20220128T170000
DTSTAMP:20260423T003030
CREATED:20220113T012409Z
LAST-MODIFIED:20220119T044645Z
UID:23914-1643385600-1643389200@solidservicios.com
SUMMARY:WEBINAR | ¡Ahorre tiempo en el desarrollo de sus proyectos de automatización!
DESCRIPTION:Impartido por: \nIng. Eric Daniel Luna Gómez\nIngeniero de Aplicaciones Elite \nFecha y Hora: \nViernes 28  de Enero de 2022 | 4:00 pm a 5:00 pm \nDescripción: \nAcelera el diseño de los diagramas eléctricos y de control de tus proyectos de automatización con SOLIDWORKS Electrical. Mejora la colaboración con el área de diseño mecánico y genera tus interconexiones eléctricas en un entorno 3D.  \nBeneficios: \n• Disminuye el tiempo de diseño.\n \n• Evita gastos inesperados. \n• Mejora la comunicación entre sus áreas de diseño mecánico y eléctrico. \n• Reduzce el uso de tareas repetitivas.  \n  \n  \n ¡REGISTRARSE AHORA!
URL:https://solidservicios.com/cal/webinar-ahorre-tiempo-en-el-desarrollo-de-sus-proyectos-de-automatizacion/
ORGANIZER;CN="SOLIDSERVICIOS":MAILTO:info@solidservicios.com
END:VEVENT
END:VCALENDAR