BEGIN:VCALENDAR
VERSION:2.0
PRODID:-//SolidServicios - ECPv6.3.3.1//NONSGML v1.0//EN
CALSCALE:GREGORIAN
METHOD:PUBLISH
X-WR-CALNAME:SolidServicios
X-ORIGINAL-URL:https://solidservicios.com
X-WR-CALDESC:Eventos para SolidServicios
REFRESH-INTERVAL;VALUE=DURATION:PT1H
X-Robots-Tag:noindex
X-PUBLISHED-TTL:PT1H
BEGIN:VTIMEZONE
TZID:UTC
BEGIN:STANDARD
TZOFFSETFROM:+0000
TZOFFSETTO:+0000
TZNAME:UTC
DTSTART:20220101T000000
END:STANDARD
END:VTIMEZONE
BEGIN:VEVENT
DTSTART;TZID=UTC:20220204T160000
DTEND;TZID=UTC:20220204T170000
DTSTAMP:20260422T184225
CREATED:20220113T012823Z
LAST-MODIFIED:20220119T044829Z
UID:23916-1643990400-1643994000@solidservicios.com
SUMMARY:TALLER | Animación de brazo robótico ¡Hazlo fácil con Mate controler!
DESCRIPTION:Impartido por: \nIng. Noe Núñez Aguilar\nIngeniero de Aplicaciones Elite \nFecha y Hora: \nViernes 4  de Febrero de 2022 | 4:00 pm a 5:00 pm \nDescripción: \nConoce como manipular un brazo robótico y otras relaciones de posición con Mate Controler y como utilizarlo para crear una animación desde SOLIDWORKS. Con Mate Controler podrás manipular de manera sencilla tus relaciones de posición para mostrar el funcionamiento de algún sistema mecánico.  \nBeneficios: \n• Disminuye el tiempo de diseño. \n• Verifica el movimiento de sistemas mecánicos. \n• Crea una animación de manera sencilla. \n• Muestra el funcionamiento de tu producto.  \n  \n ¡REGISTRARSE AHORA!
URL:https://solidservicios.com/cal/taller-animacion-de-brazo-robotico-hazlo-facil-con-mate-controler/
ORGANIZER;CN="SOLIDSERVICIOS":MAILTO:info@solidservicios.com
END:VEVENT
BEGIN:VEVENT
DTSTART;TZID=UTC:20220209T160000
DTEND;TZID=UTC:20220209T170000
DTSTAMP:20260422T184225
CREATED:20220201T001727Z
LAST-MODIFIED:20220201T001727Z
UID:24057-1644422400-1644426000@solidservicios.com
SUMMARY:Producción 3D Rentable y escalable | Webinar sin costo
DESCRIPTION:WEBINAR SIN COSTO \n¡Mayor precisión de impresión en modelos complejos! Reduzca tiempo y costos de moldes \nJueves 26 Noviembre 2020   4:00 pm | Duración: 1hr \n ¡REGISTRARSE AHORA! \n\n¡Haz realidad la producción 3D\, con estas soluciones de fabricación escalables y modulares\, de una forma personalizable y ultra rápida! \nEn este WEBINAR SIN COSTO  abordaremos la mejor opción disponible  dentro de la industria de la impresión 3D para una fabricación confiable para producción digital directa a alta velocidad. Aprende como llevar un proceso en el que podrás complementar los métodos de producción tradicionales\, pero ofreciendo a todo fabricante la precisión\, confiabilidad\, capacidad de reproducción y el tiempo de actividad del moldeo tradicional para producir piezas sin los costos y los aspectos lentos de la mecanización. \n\n✔ Rentabilidad \n✔ Versatilidad \n✔ Amplia gama de materiales. \n\n  \n ¡REGISTRARSE AHORA!
URL:https://solidservicios.com/cal/produccion-3d-rentable-y-escalable-webinar-sin-costo/
ATTACH;FMTTYPE=image/jpeg:https://solidservicios.com/wp-content/uploads/POST-y-BANNER-PROPUESTA.jpg
ORGANIZER;CN="SOLIDSERVICIOS":MAILTO:info@solidservicios.com
END:VEVENT
BEGIN:VEVENT
DTSTART;TZID=UTC:20220211T160000
DTEND;TZID=UTC:20220211T170000
DTSTAMP:20260422T184225
CREATED:20220204T220659Z
LAST-MODIFIED:20220204T220659Z
UID:24080-1644595200-1644598800@solidservicios.com
SUMMARY:WEBINAR | Crea animaciones extraordinarias para tus clientes con SOLIDWORKS Visualize
DESCRIPTION:Impartido por: \nIng. Eric Daniel Luna Gómez\nIngeniero de Aplicaciones Elite \nFecha y Hora: \nViernes 11 de Febrero de 2022 | 4:00 pm a 5:00 pm \nDescripción: \nVisualize es el software de renderizado por excelencia de SOLIDWORKS. Te permitirá trabajar y crear animaciones de extraordinaria y destacada calidad. Aprovecha esta herramienta para atraer y convencer a tus clientes.  \nBeneficios: \n• Maximiza el tiempo de diseño y consigue un producto final mejor y más rápido para superar a la competencia.  \n• Reduce el coste y número de los prototipos físicos.  \n• Haz destacar el lanzamiento de tus diseños frente a otros con contenido de resolución fotográfica\, así podrás cerrar más acuerdos de negocios.  \n  \n ¡REGISTRARSE AHORA!
URL:https://solidservicios.com/cal/webinar-crea-animaciones-extraordinarias-para-tus-clientes-con-solidworks-visualize/
ORGANIZER;CN="SOLIDSERVICIOS":MAILTO:info@solidservicios.com
END:VEVENT
BEGIN:VEVENT
DTSTART;TZID=UTC:20220218T160000
DTEND;TZID=UTC:20220218T170000
DTSTAMP:20260422T184225
CREATED:20220113T055210Z
LAST-MODIFIED:20220119T045009Z
UID:23923-1645200000-1645203600@solidservicios.com
SUMMARY:TALLER | Cómo aprender a simplificar y automatizar tareas complejas en SolidCAM
DESCRIPTION:Impartido por: \nIng. José Alberto Robles Díaz\nIngeniero de Aplicaciones Elite \nFecha y Hora: \nViernes 18  de Febrero de 2022 | 4:00 pm a 5:00 pm \nDescripción: \nUn Proceso de Mecanizado consta de una serie de Operaciones que están vinculadas entre sí a través de parámetros definidos por el usuario. Podrás automatizar tareas repetitivas en la programación CNC con la generación de plantillas. \n En situaciones idénticas o similares subsiguientes\, los procesos de mecanizado pueden usarse directamente o adaptarse a la nueva situación al dar valores a tus parámetros.  \nBeneficios: \n• Disminuye el tiempo de programación. \n• Simplifica tareas Complejas. \n• Estandariza procedimientos y operaciones. \n• Aprovecha las capacidades completas de SolidCAM.  \n  \n ¡REGISTRARSE AHORA!
URL:https://solidservicios.com/cal/taller-como-aprender-a-simplificar-y-automatizar-tareas-complejas-en-solidcam/
ORGANIZER;CN="SOLIDSERVICIOS":MAILTO:info@solidservicios.com
END:VEVENT
BEGIN:VEVENT
DTSTART;TZID=UTC:20220225T160000
DTEND;TZID=UTC:20220225T170000
DTSTAMP:20260422T184225
CREATED:20220204T220952Z
LAST-MODIFIED:20220204T220952Z
UID:24081-1645804800-1645808400@solidservicios.com
SUMMARY:Webinar | Creación y automatización de experiencias en diseño de modelos 3D con DriveWorks Professional
DESCRIPTION:Impartido por: \nIng. Juan Pablo Pérez Jiménez\nIngeniero de Aplicaciones Experto \nFecha y Hora: \nViernes 25 de Febrero de 2022 | 4:00 pm a 5:00 pm \nDescripción: \nDiseña y desarrolla una interfaz para personalizar y automatizar la creación de un modelo3D. Un asistente te ayudará a definir sus diferentes configuraciones de manera sencilla e interactiva. \nBeneficios: \n• Crea una interfaz interactiva e intuitiva para mostrar un producto de anera atractiva. \n• Fabrica diferentes configuraciones de un producto\, sin necesidad de crear archivos grandes o pesados. \n• Automatiza el proceso de diseño y ahorra tiempo en hacer configuraciones. \n  \n ¡REGISTRARSE AHORA!
URL:https://solidservicios.com/cal/webinar-creacion-y-automatizacion-de-experiencias-en-diseno-de-modelos-3d-con-driveworks-professional/
ORGANIZER;CN="SOLIDSERVICIOS":MAILTO:info@solidservicios.com
END:VEVENT
END:VCALENDAR