BEGIN:VCALENDAR
VERSION:2.0
PRODID:-//SolidServicios - ECPv6.3.3.1//NONSGML v1.0//EN
CALSCALE:GREGORIAN
METHOD:PUBLISH
X-WR-CALNAME:SolidServicios
X-ORIGINAL-URL:https://solidservicios.com
X-WR-CALDESC:Eventos para SolidServicios
REFRESH-INTERVAL;VALUE=DURATION:PT1H
X-Robots-Tag:noindex
X-PUBLISHED-TTL:PT1H
BEGIN:VTIMEZONE
TZID:UTC
BEGIN:STANDARD
TZOFFSETFROM:+0000
TZOFFSETTO:+0000
TZNAME:UTC
DTSTART:20220101T000000
END:STANDARD
END:VTIMEZONE
BEGIN:VEVENT
DTSTART;TZID=UTC:20220304T160000
DTEND;TZID=UTC:20220304T170000
DTSTAMP:20260422T101359
CREATED:20220113T055501Z
LAST-MODIFIED:20220119T045255Z
UID:23924-1646409600-1646413200@solidservicios.com
SUMMARY:TALLER | Diseña piezas de inyección de plástico de una manera rápida e intuitiva con SOLIDWORKS
DESCRIPTION:Impartido por: \nIng. Alejandro Zepeda Suarez\nIngeniero de Aplicaciones Experto \nFecha y Hora: \nViernes 4  de Marzo de 2022 | 4:00 pm a 5:00 pm \nDescripción: \nSOLIDWORKS te permitirá agilizar y automatizar el proceso de diseño de moldes mediante su poderosa herramienta completamente integrada de SOLIDWORKS. Te mostrará además varias técnicas de creación manual\, así como diferentes métodos para automatizar operaciones y crear elementos para moldes de inyección.  \nBeneficios: \n• Analiza y optimiza tus diseños de moldes en las primeras etapas. \n• Obtén de manera más rápida a partir de la geometría\, elementos y piezas mediante funciones avanzadas.  \n• Desarrolla diseños más eficaces con las funciones parametrizadas en el manejo de superficies.  \n• Toma ventaja con las diferentes herramientas que ofrece el diseño de moldes con SOLIDWORKS  \n  \n ¡REGISTRARSE AHORA!
URL:https://solidservicios.com/cal/taller-disene-piezas-de-inyeccion-de-plastico-de-una-manera-rapida-e-intuitiva-con-solidworks/
END:VEVENT
BEGIN:VEVENT
DTSTART;TZID=UTC:20220311T160000
DTEND;TZID=UTC:20220311T170000
DTSTAMP:20260422T101359
CREATED:20220113T055746Z
LAST-MODIFIED:20220302T043438Z
UID:23925-1647014400-1647018000@solidservicios.com
SUMMARY:TALLER | Aprende a optimizar tus tiempos en la creación de Moldes de inyección y sus elementos.
DESCRIPTION:Impartido por: \nIng. Alejandro Zepeda Suarez\nIngeniero de Aplicaciones Experto \nFecha y Hora: \nViernes 11  de Marzo de 2022 | 4:00 pm a 5:00 pm \nDescripción: \nCrea y almacena elementos utilizados dentro del diseño de moldes tales como\, Lifter\, barrenos especiales\, runners hasta un molde base descargado desde 3Dcontentcentral\, todo aprovechando las herramientas avanzadas de SOLIDWORKS. Diseño de moldes\, crear bibliotecas de diseño y disponibilidad de elementos de manera dinámica.  \nBeneficios: \n• Crea base de datos con elementos reutilizables. \n• Utiliza archivos directos desde el proveedor. \n• Mejora la optimización de tiempo de diseño\, reduciendo tiempos de entrega. \n  \n ¡REGISTRARSE AHORA!
URL:https://solidservicios.com/cal/taller-aprende-a-optimizar-tus-tiempos-en-la-creacion-de-moldes-de-inyeccion-y-sus-elementos/
ORGANIZER;CN="SOLIDSERVICIOS":MAILTO:info@solidservicios.com
END:VEVENT
BEGIN:VEVENT
DTSTART;TZID=UTC:20220318T160000
DTEND;TZID=UTC:20220318T170000
DTSTAMP:20260422T101359
CREATED:20220204T221231Z
LAST-MODIFIED:20220302T043439Z
UID:24082-1647619200-1647622800@solidservicios.com
SUMMARY:WEBINAR | Anticipa y soluciona problemas de manufactura para tus diseños de inyección de plástico
DESCRIPTION:Impartido por: \nIng. Luis Daniel Campos\nIngeniero de Aplicaciones Elite \nFecha y Hora: \nViernes 18 de Marzo de 2022 | 4:00 pm a 5:00 pm \nDescripción: \nAsegúrate de que las piezas de plásticos son fabricables y no tienen errores por el proceso de inyección desde la fase de diseño. SOLIDWORKS PLASTICS STANDARD es una solución fácil de utilizar y comprender\, que está integrada a SOLIDWORKS CAD\, lo que permite analizar y modificar los diseños de las piezas y\, al mismo tiempo\, perfecciona la forma\, el ajuste y la función. \nBeneficios: \n• Corrige problemas de inyección antes del proceso de producción. \n• Reduce el tiempo de salida al mercado.  \n• Identifica tiros cortos o cavidades incompletas.. \n  \n ¡REGISTRARSE AHORA!
URL:https://solidservicios.com/cal/webinar-anticipa-y-soluciona-problemas-de-manufactura-para-tus-disenos-de-inyeccion-de-plastico/
ORGANIZER;CN="SOLIDSERVICIOS":MAILTO:info@solidservicios.com
END:VEVENT
BEGIN:VEVENT
DTSTART;TZID=UTC:20220325T160000
DTEND;TZID=UTC:20220325T170000
DTSTAMP:20260422T101359
CREATED:20220204T221911Z
LAST-MODIFIED:20220204T221911Z
UID:24083-1648224000-1648227600@solidservicios.com
SUMMARY:WEBINAR | Optimiza el proceso de inyección de plásticos
DESCRIPTION:Impartido por: \nIng. Luis Daniel Campos\nIngeniero de Aplicaciones Elite \nFecha y Hora: \nViernes 25 de Marzo de 2022 | 4:00 pm a 5:00 pm \nDescripción: \nAsegúrate de que las piezas son fabricables por el proceso de inyección desde la fase de diseño. SOLIDWORKS PLASTICS PROFESSIONAL es una solución fácil de utilizar y comprender que\, además\, está integrada a SOLIDWORKS CAD\, lo cual permite analizar y modificar los modelos en función de lograr mejoras en el tiempo empleado durante todo el proceso de inyección.. \nBeneficios: \n• Identifica problemas de inyección en elementos de varias cavidades. \n• Genera simulaciones de elementos compuestos de dos o más materiales.  \n• Optimiza el sistema de alimentación del molde. \n• Reduce el tiempo necesario para el proceso de inyección. Corrige problemas de inyección antes del proceso de producción. \n  \n ¡REGISTRARSE AHORA!
URL:https://solidservicios.com/cal/webinar-optimiza-el-proceso-de-inyeccion-de-plasticos/
ORGANIZER;CN="SOLIDSERVICIOS":MAILTO:info@solidservicios.com
END:VEVENT
END:VCALENDAR