BEGIN:VCALENDAR
VERSION:2.0
PRODID:-//SolidServicios - ECPv6.3.3.1//NONSGML v1.0//EN
CALSCALE:GREGORIAN
METHOD:PUBLISH
X-WR-CALNAME:SolidServicios
X-ORIGINAL-URL:https://solidservicios.com
X-WR-CALDESC:Eventos para SolidServicios
REFRESH-INTERVAL;VALUE=DURATION:PT1H
X-Robots-Tag:noindex
X-PUBLISHED-TTL:PT1H
BEGIN:VTIMEZONE
TZID:UTC
BEGIN:STANDARD
TZOFFSETFROM:+0000
TZOFFSETTO:+0000
TZNAME:UTC
DTSTART:20220101T000000
END:STANDARD
TZID:America/Chicago
BEGIN:DAYLIGHT
TZOFFSETFROM:-0600
TZOFFSETTO:-0500
TZNAME:CDT
DTSTART:20220313T080000
END:DAYLIGHT
BEGIN:STANDARD
TZOFFSETFROM:-0500
TZOFFSETTO:-0600
TZNAME:CST
DTSTART:20221106T070000
END:STANDARD
END:VTIMEZONE
BEGIN:VEVENT
DTSTART;TZID=UTC:20220506T080000
DTEND;TZID=UTC:20220506T170000
DTSTAMP:20260422T033656
CREATED:20220204T223026Z
LAST-MODIFIED:20220323T042241Z
UID:24088-1651824000-1651856400@solidservicios.com
SUMMARY:WEBINAR | Inventa\, aprende y produce piezas y ensamblajes nuevos con 3DExperience
DESCRIPTION:Impartido por: \nIng. Noé Núñez Aguilar\nIngeniero de Aplicaciones Elite \nFecha y Hora: \nViernes 6 de Mayo de 2022 | 4:00 pm a 5:00 pm \nDescripción: \nConoce los roles de usuarios y herramientas de 3DEXPERIENCE para el diseño de piezas y ensamblajes basado en la nube\, es decir\, trabajados desde Internet. \nCon 3DEXPERIENCE obtén la flexibilidad de diseño basado en la nube y crea piezas mecánicas y ensamblajes de manera sencilla desde un navegador web. Esta nueva plataforma expande las capacidades de SOLIDWORKS permitiéndonos diseñar desde cualquier equipo de cómputo o dispositivo móvil. \nBeneficios: \n• Expande las posibilidades de diseño. \n• Obtén flexibilidad de desarrollo. \n• Aumenta las capacidades de SOLIDWORKS trabajándolas desde la nube. \n  \n ¡REGISTRARSE AHORA!
URL:https://solidservicios.com/cal/webinar-inventa-aprende-y-produce-piezas-y-ensamblajes-nuevos-con-3dexperience/
ORGANIZER;CN="SOLIDSERVICIOS":MAILTO:info@solidservicios.com
END:VEVENT
BEGIN:VEVENT
DTSTART;TZID=UTC:20220513T160000
DTEND;TZID=UTC:20220513T170000
DTSTAMP:20260422T033656
CREATED:20220113T061905Z
LAST-MODIFIED:20220514T020632Z
UID:23929-1652457600-1652461200@solidservicios.com
SUMMARY:Taller | Optimiza el diseño de Chapa Metálica con con SOLIDWORKS
DESCRIPTION:Impartido por: \nIng. Juan Pablo Pérez Jiménez\nIngeniero de Aplicaciones Experto \nFecha y Hora: \nViernes 13 de Mayo de 2022 | 4:00 pm a 5:00 pm \nDescripción: \nCon las herramientas de chapa metálica de SOLIDWORKS el diseño y la fabricación de estructuras metálicas no será un reto más para ti. Las diferentes operaciones de brida y dobleces te permitirán generar sus diseños en cuestión de segundos y presentar tu producto para la manufactura en menor tiempo. \nBeneficios: \n• Las características de doblar y desdoblar laminas\, harán sus diseños más simples para la manufactura. \n• Crea productos complejos en menor tiempo a partir de láminas de metal. \n• Maximiza el tiempo de diseño\, consiga un producto final mejor y más rápido para superar la competencia. \n• Reduce los desperdicios de material. \n  \n ¡REGISTRARSE AHORA!
URL:https://solidservicios.com/cal/taller-optimice-el-diseno-con-solidworks-chapa-metalica-2/
ORGANIZER;CN="SOLIDSERVICIOS":MAILTO:info@solidservicios.com
END:VEVENT
BEGIN:VEVENT
DTSTART;TZID=UTC:20220520T160000
DTEND;TZID=UTC:20220520T170000
DTSTAMP:20260422T033656
CREATED:20220204T224128Z
LAST-MODIFIED:20220323T042846Z
UID:24089-1653062400-1653066000@solidservicios.com
SUMMARY:WEBINAR | ¡Explora los beneficios del modelado subdivisional de 3D Sculptor!
DESCRIPTION:Impartido por: \nIng. Eric Daniel Luna Gómez\nIngeniero de Aplicaciones Elite \nFecha y Hora: \nViernes 20 de Mayo de 2022 | 4:00 pm a 5:00 pm \nDescripción: \nAprende a utilizar 3D Sculptor\, una nueva aplicación de la plataforma 3DEXPERIENCE de Dassault Systemes para modelar geometrías orgánicas y superficies complejas mediante el modelado subdivisional. Resuelva sus retos actuales de diseño con esta solución 3D basada en la nube. \nBeneficios: \n• Diseña fácilmente modelos conceptuales de diseño. \n• Toma decisiones críticas sobre tu producto en tiempo y forma. \n• Desarrolla productos en la nube aprovechando toda la nueva tecnología de Dassault Systemes. \n• Trabaja en un entorno colaborativo con todo tu equipo. \n• Reduce costos de infraestructura\, mantenimiento del software mediante un software de diseño 3D basado en la nube.  \n  \n ¡REGISTRARSE AHORA!
URL:https://solidservicios.com/cal/webinar-explora-los-beneficios-del-modelado-subdivisional-de-3d-sculptor/
ORGANIZER;CN="SOLIDSERVICIOS":MAILTO:info@solidservicios.com
END:VEVENT
BEGIN:VEVENT
DTSTART;TZID=America/Chicago:20220527T160000
DTEND;TZID=America/Chicago:20220527T170000
DTSTAMP:20260422T033656
CREATED:20220113T061721Z
LAST-MODIFIED:20220525T234031Z
UID:23930-1653667200-1653670800@solidservicios.com
SUMMARY:Taller | Aprende a ahorrar tiempo con ECUACIONES en SOLIDWORKS
DESCRIPTION:Impartido por: \nIng. Juan Pablo Pérez Jiménez\nIngeniero de Aplicaciones Experto \nFecha y Hora: \nViernes 27 de Mayo de 2022 | 4:00 pm a 5:00 pm \nDescripción: \nAutomatiza y controla tu modelo CAD desde una sola interfaz con ayuda de las ecuaciones y variables globales. Permite que\, con un sencillo cambio de medidas\, se reconstruya y se actualice nuevas configuraciones de cualquier modelo CAD pieza o ensamble.  \nBeneficios: \n• Controla las cotas y grupo de cotas en un solo entorno. \n• Permite unir tablas de diseño y configuraciones para crear un modelo completamente automatizado. \n• Sustituye medidas que no están definidas aún para poder crear cambios después. \n• Vincula cotas y medidas de un modelo CAD para crear un diseño fácil y rápido de controlar. \n  \n ¡REGISTRARSE AHORA!
URL:https://solidservicios.com/cal/taller-aprende-a-ahorrar-tiempo-en-cambios-con-ecuaciones-en-solidworks/
ORGANIZER;CN="SOLIDSERVICIOS":MAILTO:info@solidservicios.com
END:VEVENT
END:VCALENDAR