BEGIN:VCALENDAR
VERSION:2.0
PRODID:-//SolidServicios - ECPv6.3.3.1//NONSGML v1.0//EN
CALSCALE:GREGORIAN
METHOD:PUBLISH
X-ORIGINAL-URL:https://solidservicios.com
X-WR-CALDESC:Eventos para SolidServicios
REFRESH-INTERVAL;VALUE=DURATION:PT1H
X-Robots-Tag:noindex
X-PUBLISHED-TTL:PT1H
BEGIN:VTIMEZONE
TZID:America/Chicago
BEGIN:DAYLIGHT
TZOFFSETFROM:-0600
TZOFFSETTO:-0500
TZNAME:CDT
DTSTART:20220313T080000
END:DAYLIGHT
BEGIN:STANDARD
TZOFFSETFROM:-0500
TZOFFSETTO:-0600
TZNAME:CST
DTSTART:20221106T070000
END:STANDARD
END:VTIMEZONE
BEGIN:VEVENT
DTSTART;TZID=America/Chicago:20220603T160000
DTEND;TZID=America/Chicago:20220603T170000
DTSTAMP:20260420T061958
CREATED:20220204T224437Z
LAST-MODIFIED:20220530T201408Z
UID:24090-1654272000-1654275600@solidservicios.com
SUMMARY:WEBINAR |SOLIDWORKS MBD: Comunicación técnica efectiva
DESCRIPTION:Impartido por: \nIng. Juan Pablo Pérez\nIngeniero de Aplicaciones Experto \nFecha y Hora: \nViernes 3 de Junio de 2022 | 4:00 pm a 5:00 pm \nDescripción: \nDescubre cómo generar información personalizada para cada departamento involucrado en la manufactura de tus modelos. Genera contenido más detallado y evita errores en la fabricación por interpretaciones inexactas. \nBeneficios: \n• Realiza entregables más claros gracias a la tecnología 3D. \n• Reduce los errores en su producción por falta de comunicación entre la fase de desarrollo y producción.  \n• Facilita la gestión de la información para la manufactura y olvídate de los aburridos y poco detallados dibujos 2D.  \n• Mejora el ambiente de trabajo y la relación entre tus colaboradores del área de diseño y producción.  \n  \n ¡REGISTRARSE AHORA!
URL:https://solidservicios.com/cal/webinar-solidworks-mbd-comunicacion-tecnica-efectiva/
ORGANIZER;CN="SOLIDSERVICIOS":MAILTO:info@solidservicios.com
END:VEVENT
BEGIN:VEVENT
DTSTART;TZID=America/Chicago:20220608T160000
DTEND;TZID=America/Chicago:20220608T170000
DTSTAMP:20260420T061958
CREATED:20220519T020201Z
LAST-MODIFIED:20220525T234145Z
UID:24569-1654704000-1654707600@solidservicios.com
SUMMARY:WEBINAR : El Secreto Detrás del  Maquinado Perfecto
DESCRIPTION:  \n“El Secreto Detrás del Maquinado Perfecto“ \n¡EVENTO SIN COSTO! \n\n\n» Miércoles 8 de Junio  | 4:00 pm a 5:00 pm\n\n ¡REGISTRARSE AHORA! \n\n\n¡Descubre cómo optimizar tus procesos de maquinado! \n Acompáñanos en este webinar exclusivo y obtén TOTALMENTE GRATIS: \n\n»  Licencia de iMachining de prueba por 30 días.\n»  Soporte técnico por 30 días.\n» Taller de capacitación personalizado. 
URL:https://solidservicios.com/cal/webinar-el-secreto-detras-del-maquinado-perfecto/
END:VEVENT
BEGIN:VEVENT
DTSTART;TZID=America/Chicago:20220610T160000
DTEND;TZID=America/Chicago:20220610T170000
DTSTAMP:20260420T061958
CREATED:20220113T061529Z
LAST-MODIFIED:20220525T234436Z
UID:23931-1654876800-1654880400@solidservicios.com
SUMMARY:Taller | Ahorre tiempo en operaciones en el ambiente de ensamble con SOLIDWORKS
DESCRIPTION:Impartido por: \nIng. Juan Pablo Pérez Jiménez\nIngeniero de Aplicaciones Experto \nFecha y Hora: \nViernes 10 de Junio de 2022 | 4:00 pm a 5:00 pm \nDescripción: \nUtiliza las herramientas totalmente automatizadas que ofrece el ambiente de ensamble sobre componentes (piezas)\, aprovecha la facilidad de insertar nuevos componentes automáticamente en todos sus modelos con componentes inteligentes o\, de manera rápida e intuitiva\, agrega toda la tornillería necesaria sobre su modelo de manera casi instantánea. \nBeneficios: \n• Trabaja desde un solo ambiente de ensamblaje. \n• Diseña más rápido insertando piezas completamente inteligentes. \n• Aprovecha las librerías de componentes ya predefinidos para aumentar el diseño de nuevos modelos. \n  \n ¡REGISTRARSE AHORA!
URL:https://solidservicios.com/cal/taller-ahorre-tiempo-en-operaciones-en-el-ambiente-de-ensamble-con-solidworks/
ORGANIZER;CN="SOLIDSERVICIOS":MAILTO:info@solidservicios.com
END:VEVENT
BEGIN:VEVENT
DTSTART;TZID=America/Chicago:20220617T080000
DTEND;TZID=America/Chicago:20220617T170000
DTSTAMP:20260420T061958
CREATED:20220204T224735Z
LAST-MODIFIED:20220613T222049Z
UID:24091-1655452800-1655485200@solidservicios.com
SUMMARY:WEBINAR | Diseño y maquinado CNC: ¡Dale potencia! SolidCAM
DESCRIPTION:Impartido por: \nIng. José Alberto Robles Díaz\nIngeniero de Aplicaciones Elite \nFecha y Hora: \nViernes 17 de Junio de 2022 | 4:00 pm a 5:00 pm \nDescripción: \nCrea trayectorias de mecanizado CNC (Computer Numerical Control o control numérico por ordenador) de 2.5 ejes\, de manera potente y sencilla. Controla los comandos con aplicaciones interactivas completas y de reconocimiento automático de operaciones\, trabajando directamente dentro de SOLIDWORKS. También accede a una serie de operaciones preestablecidas para el maquinado de geometrías complejas como ranuras y esquinas. \nBeneficios: \n• Disminuye el tiempo de programación. \n• Trabaja desde una misma plataforma el diseño y el maquinado. \n• Aumenta la calidad de tus maquinados. \n  \n ¡REGISTRARSE AHORA!
URL:https://solidservicios.com/cal/webinar-programacion-cnc-diseno-y-maquinado-potente-e-intuitivo-en-una-misma-plataforma/
ORGANIZER;CN="SOLIDSERVICIOS":MAILTO:info@solidservicios.com
END:VEVENT
BEGIN:VEVENT
DTSTART;TZID=America/Chicago:20220624T160000
DTEND;TZID=America/Chicago:20220624T170000
DTSTAMP:20260420T061958
CREATED:20220120T045114Z
LAST-MODIFIED:20220525T234650Z
UID:24007-1656086400-1656090000@solidservicios.com
SUMMARY:TALLER | ¡Aprenda a diseñar sus instalaciones de tubería conduit con SOLIDWORKS!
DESCRIPTION:Impartido por: \nIng. Eric Daniel Luna Gómez\nIngeniero de Aplicaciones Elite \nFecha y Hora: \nViernes 24 de Junio de 2022 | 4:00 pm a 5:00 pm \nDescripción: \nExplore las herramientas de SOLIDWORKS Routing para el diseño y edición de instalaciones eléctricas que empleen tubería conduit. Integre los aspectos eléctricos y mecánicos en una sola Lista de Materiales (BOM). \nBeneficios: \n• Mejore la integración del diseño mecánico y eléctrico mediante la generación de ruteos dentro de un modelo 3D.  \n• Inserte ruteos automáticos y edítelos con facilidad de acuerdo a sus necesidades. \n• Genere la documentación de su proyecto que incluya sus componentes mecánicos y eléctricos. \n  \n ¡REGISTRARSE AHORA!
URL:https://solidservicios.com/cal/taller-aprenda-a-disenar-sus-instalaciones-de-tuberia-conduit-con-solidworks/
ORGANIZER;CN="SOLIDSERVICIOS":MAILTO:info@solidservicios.com
END:VEVENT
END:VCALENDAR