BEGIN:VCALENDAR
VERSION:2.0
PRODID:-//SolidServicios - ECPv6.3.3.1//NONSGML v1.0//EN
CALSCALE:GREGORIAN
METHOD:PUBLISH
X-ORIGINAL-URL:https://solidservicios.com
X-WR-CALDESC:Eventos para SolidServicios
REFRESH-INTERVAL;VALUE=DURATION:PT1H
X-Robots-Tag:noindex
X-PUBLISHED-TTL:PT1H
BEGIN:VTIMEZONE
TZID:America/Mexico_City
BEGIN:DAYLIGHT
TZOFFSETFROM:-0600
TZOFFSETTO:-0500
TZNAME:CDT
DTSTART:20250406T080000
END:DAYLIGHT
BEGIN:STANDARD
TZOFFSETFROM:-0500
TZOFFSETTO:-0600
TZNAME:CST
DTSTART:20251026T070000
END:STANDARD
END:VTIMEZONE
BEGIN:VEVENT
DTSTART;TZID=America/Mexico_City:20250606T160000
DTEND;TZID=America/Mexico_City:20250606T170000
DTSTAMP:20260421T144504
CREATED:20250528T222446Z
LAST-MODIFIED:20250529T195145Z
UID:31129-1749225600-1749229200@solidservicios.com
SUMMARY:TALLER | 3DEXPERIENCE en Acción:  Eleva tu Creatividad y Precisión en el Diseño (Parte 4)"
DESCRIPTION:Impartido por: \nIng. David Pérez  \nIngeniero de aplicaciones \nFecha y Hora: \nViernes 6 de junio del 2025 | 4:00 pm a 5:00 pm \nDescripción:  \nEn la última entrega de la serie “3DEXPERIENCE en Acción”\, exploraremos cómo la plataforma 3DEXPERIENCE te permite validar tus diseños con precisión y confianza. Aprende a realizar simulaciones avanzadas\, verificar el rendimiento de tus productos y garantizar que cumplan con los estándares antes de la producción. Descubre cómo reducir costos\, tiempos y riesgos al incorporar la validación como una parte esencial de tu proceso de desarrollo.. \n  \n¡REGISTRARSE AHORA!
URL:https://solidservicios.com/cal/taller-3dexperience-en-accion-eleva-tu-creatividad-y-precision-en-el-diseno-parte-4/
END:VEVENT
BEGIN:VEVENT
DTSTART;TZID=America/Mexico_City:20250611T160000
DTEND;TZID=America/Mexico_City:20250611T170000
DTSTAMP:20260421T144504
CREATED:20250528T222904Z
LAST-MODIFIED:20250529T155442Z
UID:31133-1749657600-1749661200@solidservicios.com
SUMMARY:WEBINAR EXTRA | Mecanizado tradicional vs mecanizado adaptativo\, ¿Cuál es el mejor?
DESCRIPTION:Impartido por: \nIng. Alondra Mariscal \nIngeniera de aplicaciones  \nIng. Sandra García \nConsultor Experto CAM \nFecha y Hora: \nMiércoles 06 de  junio del 2025 | 4:00 pm a 5:00 pm \nDescripción:  \nDescubre las diferencias clave entre el mecanizado tradicional y el mecanizado adaptativo en este webinar exclusivo\, donde el protagonista es iMachining de SolidCAM. \nAnalizaremos cómo las estrategias convencionales de mecanizado se comparan con las avanzadas capacidades de iMachining\, destacando la reducción de tiempos de ciclo\, el aumento de la vida útil de las herramientas y la eficiencia en el mecanizado de materiales exóticos y complejos. A través de ejemplos prácticos y demostraciones en vivo\, aprenderás cómo iMachining revoluciona la programación CNC\, optimiza trayectorias y maximiza la productividad en tu taller. \n¡No te pierdas la oportunidad de llevar tu producción al siguiente nivel con la tecnología más innovadora del sector! \n  \n¡REGISTRARSE AHORA!
URL:https://solidservicios.com/cal/webinar-extra-comparacion-entre-mecanizado-tradicional-y-mecanizado-adaptativo/
END:VEVENT
BEGIN:VEVENT
DTSTART;TZID=America/Mexico_City:20250613T160000
DTEND;TZID=America/Mexico_City:20250613T170000
DTSTAMP:20260421T144504
CREATED:20250528T223615Z
LAST-MODIFIED:20250529T155616Z
UID:31137-1749830400-1749834000@solidservicios.com
SUMMARY:WEBINAR | Descubre las mejores prácticas para diseño eléctrico con Solidworks
DESCRIPTION:Impartido por: \nIng. Cesar Verdeja \nIngeniero de aplicaciones  \nIng. Ernesto Gonzáles  \nConsultor Experto  \nFecha y Hora: \nViernes 13 de junio del 2025 | 4:00 pm a 5:00 pm \nDescripción:  \nPotencia el diseño eléctrico mediante SOLIDWORKS Electrical\, haciendo énfasis en el trabajo colaborativo a través de un servidor común. \nDescubre cómo múltiples usuarios pueden trabajar simultáneamente en un mismo proyecto eléctrico\, manteniendo la integridad de los datos\, optimizando tiempos y reduciendo errores. \n  \n¡REGISTRARSE AHORA!
URL:https://solidservicios.com/cal/webinar-diseno-electrico-colaborativo-con-solidworks-electrical-mejores-practicas-con-servidor-comun/
END:VEVENT
BEGIN:VEVENT
DTSTART;TZID=America/Mexico_City:20250620T160000
DTEND;TZID=America/Mexico_City:20250620T170000
DTSTAMP:20260421T144504
CREATED:20250528T223755Z
LAST-MODIFIED:20250605T231756Z
UID:31139-1750435200-1750438800@solidservicios.com
SUMMARY:TALLER | 3DEXPERIENCE NC SHOOP FLOOR PROGRAMER
DESCRIPTION:Impartido por: \nIng. Agustín Pérez \nIngeniero de aplicaciones ELITE  \nFecha y Hora: \nViernes 20 de junio del 2025 | 4:00 pm a 5:00 pm \nDescripción:  \nEn este taller\, exploraremos el flujo completo de trabajo en NC Shop Floor Programmer\, necesario para la programación y optimización de procesos de corte láser. Además\, daremos continuidad al proyecto práctico del asador que hemos estado desarrollando paso a paso en los talleres anteriores\, mostrando cómo el corte láser permite obtener piezas precisas y eficientes para su ensamble final. \n  \n¡REGISTRARSE AHORA!
URL:https://solidservicios.com/cal/taller-3dexperience-nc-shoop-floor-programer/
END:VEVENT
BEGIN:VEVENT
DTSTART;TZID=America/Mexico_City:20250625T160000
DTEND;TZID=America/Mexico_City:20250625T170000
DTSTAMP:20260421T144504
CREATED:20250528T223957Z
LAST-MODIFIED:20250604T221352Z
UID:31141-1750867200-1750870800@solidservicios.com
SUMMARY:WEBINAR EXTRA | Draftsight: Interfaz de Usuario y facilidad de uso
DESCRIPTION:Impartido por: \nIng. Ernesto Montaño \nIngeniero de aplicaciones   \n  \nIng. Jorge Cordero  \nConsultor Experto \nFecha y Hora: \nMiércoles 25 de junio del 2025 | 4:00 pm a 5:00 pm \nDescripción:  \nOptimiza tu flujo de trabajo con scripts y macros personalizados en DraftSight. Aprende a programar comandos repetitivos\, mejorar la precisión de tus diseños y acelerar tu proceso de documentación técnica. \n¡REGISTRARSE AHORA!
URL:https://solidservicios.com/cal/webinar-extra-automatizacion-en-draftsight-scripts-y-macros-para-disenar-mas-rapido/
END:VEVENT
BEGIN:VEVENT
DTSTART;TZID=America/Mexico_City:20250627T160000
DTEND;TZID=America/Mexico_City:20250627T170000
DTSTAMP:20260421T144504
CREATED:20250528T224228Z
LAST-MODIFIED:20250528T224236Z
UID:31143-1751040000-1751043600@solidservicios.com
SUMMARY:WEBINAR | Product Release Engineer en 3DEXPERIENCE: Trazabilidad\, control y éxito en tus entregas.
DESCRIPTION:Impartido por: \nIng. Noe Núñez \nCoordinador de Ingeniería ELITE  \nIng. Edwin Bárcena  \n3DEXPERIENCE Sales Manager   \nFecha y Hora: \nViernes 27 de junio del 2025 | 4:00 pm a 5:00 pm \nDescripción:  \nLa gestión eficiente de entregas en proyectos de ingeniería no es una opción: es una necesidad. \nEn este webinar exploraremos cómo Product Release Engineer dentro de la plataforma 3DEXPERIENCE te permite estructurar\, validar y liberar información crítica de producto con total control\, trazabilidad y colaboración entre áreas. \nDescubre cómo optimizar tus procesos de liberación y garantizar que lo que llega a producción es exactamente lo que debe llegar.” \n  \n¡REGISTRARSE AHORA!
URL:https://solidservicios.com/cal/webinar-product-release-engineer-en-3dexperience-trazabilidad-control-y-exito-en-tus-entregas/
END:VEVENT
END:VCALENDAR